BEGIN:VCALENDAR
VERSION:2.0
PRODID:-//Klaipėdos dramos teatras - ECPv6.10.3//NONSGML v1.0//EN
CALSCALE:GREGORIAN
METHOD:PUBLISH
X-ORIGINAL-URL:https://kdt.lt
X-WR-CALDESC:Klaipėdos dramos teatras renginiai
REFRESH-INTERVAL;VALUE=DURATION:PT1H
X-Robots-Tag:noindex
X-PUBLISHED-TTL:PT1H
BEGIN:VTIMEZONE
TZID:Europe/Vilnius
BEGIN:DAYLIGHT
TZOFFSETFROM:+0200
TZOFFSETTO:+0300
TZNAME:EEST
DTSTART:20210328T010000
END:DAYLIGHT
BEGIN:STANDARD
TZOFFSETFROM:+0300
TZOFFSETTO:+0200
TZNAME:EET
DTSTART:20211031T010000
END:STANDARD
END:VTIMEZONE
BEGIN:VEVENT
DTSTART;TZID=Europe/Vilnius:20211015T190000
DTEND;TZID=Europe/Vilnius:20211015T202000
DTSTAMP:20260422T195536
CREATED:20211011T132714Z
LAST-MODIFIED:20220914T105418Z
UID:2005-1634324400-1634329200@kdt.lt
SUMMARY:BŪTI
DESCRIPTION:Monodramos „Būti“ epicentre – jauna mergina Elena\, kuri pirmą kartą gyvenime pati turi priimti svarbų\, tačiau netikėtą ir labai sudėtingą sprendimą. Žinia apie neplanuotai užsimezgusią gyvybę priskiriama prie didžiausių gyvenimo sukrėtimų\, nes sprendimo akimirką žmogus suvokia\, kad gyvenimas bet kuriuo atveju pasikeis negrįžtamai. Pasimetus dėl patiriamo streso Elena užsirašo abortui\, tačiau prieš tai yra pakviečiama apsilankyti konsultacijoje\, kur specialistės patvirtintų jos apsisprendimą. Elena nė nenutuokia\, kad šis vizitas bus lemtingas. \nDovilės Katiliūtės sukurtos spektaklio dramaturgijos pagrindas – tikros moterų\, susidūrusių su neplanuotu nėštumu ar abortu\, istorijos. Dokumentinė medžiaga suteikia pjesei intymumo\, autentiškumo\, atskleidžia itin jautrias temas\, kuriomis visuomenėje kalbėti dažnai nepatogu. Ką pasirinkti? Nėštumo nutraukimą ar gimdymą neturint jokios paramos? Spektaklyje atskleidžiami būties ieškojimai – kaip „būti“? Kaip gyventi su savo pasirinkimu? Kaip kovoti su šių pasirinkimų psichologinėmis pasekmėmis\, nugalint socialinę atskirtį ar vienišumą. Ką mums reiškia būti? Ar mes iš tiesų esame? Ar mes turime teisę spręsti\, ar gali būti kiti? O gal sprendimo metu yra tik kiti? \nSpektaklio baigiamoji dalis – su neplanuotu nėštumu ar abortu susidūrusių žmonių fotografijų paroda „Esu“\, kurią lydės tikros jų istorijos. Dokumentinė paroda skirta atskleisti realius šio reiškinio mąstus šiandieninėje Lietuvoje. Po spektaklio žiūrovai turės galimybę pasinerti į gyvus\, be galo jautrius ir tikrus liudijimus\, kurie teatro fikciją perkels į realybę primenant\, jog teatras tėra melas apie tiesą\, o gyvenime režisieriai esame mes patys. \n\nBūti negalima nebūti. – kur dėsime kablelį? \n\nRežisierė L. Krivickaitė – „Spektaklyje gausu dviprasmiškumo\, šmaikščių situacijų bei nesusipratimų\, dažnai žmonės vengia sunkiomis temomis kalbėti atvirai. Spektaklyje vyraujanti pakili nuotaika\, komiškos situacijos bei humoras tarsi natūrali pagrindinės herojės apsaugos priemonė. Užuot moralizavę ar gazdinę problema\, mes ją pateikiame kaip natūralų\, žmogaus suformuotą reiškinį\, kuris prasidėjo atsiradus galimybei kontroliuoti žmonijos gimstamumą. Neplanuotas nėštumas ar aborto reiškinys iš pažiūros labai tamsios temos\, tačiau pasirinkus tinkamą pažinties būdą ši istorija pasakojama edukuojant žiūrovą\, skatinant jį permąstyti savo atsiradimą bei tikslą šiame pasaulyje. Žmogiškasis skausmas dažnai priverčia atsigręžti į esmines vertybes\, todėl spektaklyje daug meilės ir šviesos\, o pasirinkti\, būti ar ne- kiekvieno asmeninis reikalas.“
URL:https://kdt.lt/event/buti/
LOCATION:Kamerinė salė
CATEGORIES:Svečių renginiai
ATTACH;FMTTYPE=image/jpeg:https://kdt.lt/wp-content/uploads/2021/10/id_90462-e1642420819501.jpg
END:VEVENT
BEGIN:VEVENT
DTSTART;TZID=Europe/Vilnius:20211020T183000
DTEND;TZID=Europe/Vilnius:20211020T193000
DTSTAMP:20260422T195536
CREATED:20211013T083903Z
LAST-MODIFIED:20211020T183519Z
UID:2169-1634754600-1634758200@kdt.lt
SUMMARY:Šiuolaikinė opera „Nidos mokyklos kronika“
DESCRIPTION:Visą vasarą Nidoje buvo galima leistis į jos istorijos metraštį perteikiančią garsinę kelionę-šiuolaikinę operą „Nidos mokyklos kronika“. Tai autentiškomis Nidos gyventojų istorijomis paremtas garsinis maršrutas\, atspindintis Nidos mokyklos mokytojų gyvenimą 1923–1944 m. 2016 m. jos buvo publikuotos knygoje „Nidos mokyklos kronika“\, tapusioje operos autorių\, kompozitoriaus Jono Jurkūno ir dramaturgės Kristinos Savickienės\, įkvėpimu. \nŠį rudenį kviečiame į šiuolaikinės operos „Nidos mokyklos kronika“ įrašo kolektyvinę perklausą Klaipėdos dramos teatre. Operoje smėlio\, vandens\, vėjo ir elektrostatiniai garsovaizdžiai persipina su Neringos gyventojų istorijas įgarsinusių aktorių Vytauto Anužio\, Karolinos Kontenytės ir Jono Baranausko balsais\, Čiurlionio kvarteto ir choro „Melos“ atliekama muzika\, o ypatingą realumo jausmą sukuria binauraliniai garso įrašai ir kinematografinio pobūdžio muzikinės kompozicijos. \n„Nidos mokyklos kronika“ patraukli savo betarpiškais liudijimais praėjusių istorinių įvykių\, besiformuojančių regimų ir neregimų sienų. Neringa yra ne tik sausuma\, skirianti druskingą vandenį nuo gėlo. Šiame siaurame žemės ruože\, kuriame vyrauja smėlis ir vėjas\, tarp dviejų vandenų per kasdienybę atsispindi globalaus laiko slinktys. Prieš akis atsiskleidžia savita kronikos transformacija – iš sausų istorinių chronologinių faktų iki giliai asmeninių ir subjektyvių išgyvenimų. Ši sodri dokumentinė medžiaga pati kuria formą\, intrigą ir kulminaciją\, užduoda klausimus\, o atsakymų paieškas palieka mums“\, – pasakojo kompozitorius J. Jurkūnas. \nRenginys nemokamas. Būtina išankstinė registracija. 
URL:https://kdt.lt/event/siuolaikine-opera-nidos-mokyklos-kronika/
LOCATION:Didžioji salė\, Teatro g. 2\, Klaipėda\, Lietuva
CATEGORIES:Svečių renginiai
ATTACH;FMTTYPE=image/jpeg:https://kdt.lt/wp-content/uploads/2021/10/NMK_FB-cover.jpg
END:VEVENT
BEGIN:VEVENT
DTSTART;TZID=Europe/Vilnius:20211030T183000
DTEND;TZID=Europe/Vilnius:20211030T193000
DTSTAMP:20260422T195536
CREATED:20211011T134811Z
LAST-MODIFIED:20211020T081053Z
UID:2041-1635618600-1635622200@kdt.lt
SUMMARY:WHO THE F??K IS ALICE
DESCRIPTION:Imersinis spektaklis “Who the f**k is Alice” – tai fizinio teatro\, judesio ir žodžio spektaklis\, sukurtas inscenizuojant originalią L. Caroll’io romano versiją\, pritaikant ją makabriškam ir sykiu šiuolaikiniam\, žiūrovus įtraukiančiam reginiui\, kurį bus galima ne tik stebėti\, bet ir jame dalyvauti. Aktoriai šiame spektaklyje susilieja su šokėjais\, šokėjai – su DJ leidžiama muzika\, muzika – su iškreiptų veidrodžių karalyste. Šios karalystės svečiai ir dalyviai – žiūrovai turi galimybę patirti šį kartais siurrealistišką pasaulį prieinama pramogine forma. \nĮ renginio erdvę žiūrovų prašome eiti be lauko batų. Rekomenduojame turėti kojines / šlepetes.
URL:https://kdt.lt/event/who-the-fk-is-alice/
LOCATION:Didžioji salė\, Teatro g. 2\, Klaipėda\, Lietuva
CATEGORIES:Svečių renginiai
ATTACH;FMTTYPE=image/jpeg:https://kdt.lt/wp-content/uploads/2021/10/id_74490.jpg
END:VEVENT
BEGIN:VEVENT
DTSTART;TZID=Europe/Vilnius:20211030T190000
DTEND;TZID=Europe/Vilnius:20211030T204000
DTSTAMP:20260422T195536
CREATED:20211011T074324Z
LAST-MODIFIED:20211020T081017Z
UID:1821-1635620400-1635626400@kdt.lt
SUMMARY:MONGOLIJA
DESCRIPTION:Dviejų dalių spektaklis apie žmonių su Dauno sindromu gyvenimą mūsų visuomenėje. \nSpektakliui pasirinkta nestandartinė forma\, palaipsniui žiūrovą vedanti iš pasyvaus istorijos stebėtojo\, į „aktyvų mokinį“ ir galiausiai suteikiant platformą žiūrovui įsitraukti į pokalbį. \n„Mongolija“ – tai spektaklis apie žmonių su Dauno sindromu gyvenimą mūsų visuomenėje. Spektakliui pasirinkta nestandartinė forma\, palaipsniui žiūrovą vedanti iš pasyvaus istorijos stebėtojo\, į „aktyvų mokinį“ ir galiausiai suteikiant platformą žiūrovui įsitraukti į pokalbį. Tiek D. Gumauskas\, tiek spektaklyje vaidinantis Andrius Alešiūnas Dauno sindromą pažįsta iš labai arti. Asmeninėmis istorijomis paremtas spektaklis tyrinėja draugystę ir kelia klausimą\, ar kitoniškumas gali jai trukdyti? \n 
URL:https://kdt.lt/event/mongolija/
LOCATION:Mažoji salė\, Teatro g. 2\, Klaipėda
CATEGORIES:Svečių renginiai
ATTACH;FMTTYPE=image/jpeg:https://kdt.lt/wp-content/uploads/2021/10/id_77356-1.jpg
END:VEVENT
BEGIN:VEVENT
DTSTART;TZID=Europe/Vilnius:20211031T183000
DTEND;TZID=Europe/Vilnius:20211031T193000
DTSTAMP:20260422T195536
CREATED:20211011T134811Z
LAST-MODIFIED:20211020T081054Z
UID:2537-1635705000-1635708600@kdt.lt
SUMMARY:WHO THE F??K IS ALICE
DESCRIPTION:Imersinis spektaklis “Who the f**k is Alice” – tai fizinio teatro\, judesio ir žodžio spektaklis\, sukurtas inscenizuojant originalią L. Caroll’io romano versiją\, pritaikant ją makabriškam ir sykiu šiuolaikiniam\, žiūrovus įtraukiančiam reginiui\, kurį bus galima ne tik stebėti\, bet ir jame dalyvauti. Aktoriai šiame spektaklyje susilieja su šokėjais\, šokėjai – su DJ leidžiama muzika\, muzika – su iškreiptų veidrodžių karalyste. Šios karalystės svečiai ir dalyviai – žiūrovai turi galimybę patirti šį kartais siurrealistišką pasaulį prieinama pramogine forma. \nĮ renginio erdvę žiūrovų prašome eiti be lauko batų. Rekomenduojame turėti kojines / šlepetes.
URL:https://kdt.lt/event/who-the-fk-is-alice-2021-10-31/
LOCATION:Didžioji salė\, Teatro g. 2\, Klaipėda\, Lietuva
CATEGORIES:Svečių renginiai
ATTACH;FMTTYPE=image/jpeg:https://kdt.lt/wp-content/uploads/2021/10/id_74490.jpg
END:VEVENT
END:VCALENDAR