BEGIN:VCALENDAR
VERSION:2.0
PRODID:-//Klaipėdos dramos teatras - ECPv6.10.3//NONSGML v1.0//EN
CALSCALE:GREGORIAN
METHOD:PUBLISH
X-ORIGINAL-URL:https://kdt.lt
X-WR-CALDESC:Klaipėdos dramos teatras renginiai
REFRESH-INTERVAL;VALUE=DURATION:PT1H
X-Robots-Tag:noindex
X-PUBLISHED-TTL:PT1H
BEGIN:VTIMEZONE
TZID:Europe/Vilnius
BEGIN:DAYLIGHT
TZOFFSETFROM:+0200
TZOFFSETTO:+0300
TZNAME:EEST
DTSTART:20210328T010000
END:DAYLIGHT
BEGIN:STANDARD
TZOFFSETFROM:+0300
TZOFFSETTO:+0200
TZNAME:EET
DTSTART:20211031T010000
END:STANDARD
END:VTIMEZONE
BEGIN:VEVENT
DTSTART;TZID=Europe/Vilnius:20211103T190000
DTEND;TZID=Europe/Vilnius:20211103T200000
DTSTAMP:20260422T182401
CREATED:20211012T134727Z
LAST-MODIFIED:20211020T110851Z
UID:2080-1635966000-1635969600@kdt.lt
SUMMARY:NEKALTAS PRASIDĖJIMAS
DESCRIPTION:Apeirono teatro premjeros „Nekaltas prasidėjimas“ inspiracijos tašku tapo neseniai tarptautinėje spaudoje pasirodęs straipsnis apie Sardinijos saloje\, Cala Gonone akvariume palikuonio susilaukusią ryklio patelę\, kuri daugiau nei dešimt metų gyveno su vienintele savo kompanione – tai pačiai ryklių rūšiai priklausančia patele.\nMokslininkų teigimu\, partenogenezės reiškinys susidarė tose gyvūnų rūšyse\, kurių mirštamumas labai aukštas arba kuriems būdavo sunku susirasti priešingos lyties individą\, pvz amarai\, bitės\, skruzdės\, verpetės ir kt.\nSpektaklio kūrėjai klausimą „kas būna\, kai niekas negimsta?“\, kelia plačiąja prasme – kai negimsta idėjos\, aistra\, vaikai\, revoliucijos\, naujos gyvybės formos? Bet tuo pačiu – ar gali būti\, kad kažkas gimsta ir tada\, kai niekas negimsta?\nAktorių pagrindine priemone pasirinktas baltas popieriaus lapas – savotiška tabula rasa\, kurioje apstu erdvės kažkam užgimti\, bet čia į aprašymą įsiterpia penkių vaikų mama: „Žinokit\, ant A4 bus labai sunku pagimdyti\, nes pražergtos kojos vistiek lįs už kraštų“.
URL:https://kdt.lt/event/nekaltas-prasidejimas/
LOCATION:Kamerinė salė
CATEGORIES:Svečių renginiai
ATTACH;FMTTYPE=image/jpeg:https://kdt.lt/wp-content/uploads/2021/10/id_91352.jpg
END:VEVENT
BEGIN:VEVENT
DTSTART;TZID=Europe/Vilnius:20211104T183000
DTEND;TZID=Europe/Vilnius:20211104T215000
DTSTAMP:20260422T182401
CREATED:20211006T071324Z
LAST-MODIFIED:20211220T140550Z
UID:1314-1636050600-1636062600@kdt.lt
SUMMARY:OTELAS
DESCRIPTION:„Otelas“ Oskarui Koršunovui – septintoji Williamo Shakespeare’o pjesė. Režisierius jau yra pastatęs spektaklius pagal šias britų klasiko pjeses: „Vasarvidžio nakties sapnas“\, „Romeo ir Džuljeta“\, „Hamletas“\, „Audra“\, „Užsispyrėlės sutramdymas“\, „Akis už akį“. \n„Otelo“ Jagas – šių dienų influenceris. Jis už tiesos ir melo ribų. Jis žaidžia tamsiausiais jausmais\, tarsi FB algoritmas išskaičiuoja mūsų poreikius ir baimes bei apčiuopęs achilo kulną spaudžia jį taip\, kad mes savo noru tampame jo blogų tikslų juodosiomis avelėmis: bijome karo\, nekenčiame kito\, kaimyno\, svetimo ir svarbiausia – pavydime. Tai pats niekingiausias ir kartu pats efektingiausias valdymas – valdymas sukeliant baimę ir pavydą“\, – apie „Otelo“ premjerą pasakoja O. Koršunovas. \nO. Koršunovo „Otelas“ – prestižinio Avinjono festivalio 2020 m. pagrindinės programos pasirinkimas.
URL:https://kdt.lt/event/otelas/
LOCATION:Didžioji salė\, Teatro g. 2\, Klaipėda\, Lietuva
CATEGORIES:Svečių renginiai
ATTACH;FMTTYPE=image/jpeg:https://kdt.lt/wp-content/uploads/2021/10/Ot-22-foto-D.Matvejev-scaled.jpg
END:VEVENT
BEGIN:VEVENT
DTSTART;TZID=Europe/Vilnius:20211105T183000
DTEND;TZID=Europe/Vilnius:20211105T215000
DTSTAMP:20260422T182401
CREATED:20211006T071324Z
LAST-MODIFIED:20211220T140550Z
UID:1325-1636137000-1636149000@kdt.lt
SUMMARY:OTELAS
DESCRIPTION:„Otelas“ Oskarui Koršunovui – septintoji Williamo Shakespeare’o pjesė. Režisierius jau yra pastatęs spektaklius pagal šias britų klasiko pjeses: „Vasarvidžio nakties sapnas“\, „Romeo ir Džuljeta“\, „Hamletas“\, „Audra“\, „Užsispyrėlės sutramdymas“\, „Akis už akį“. \n„Otelo“ Jagas – šių dienų influenceris. Jis už tiesos ir melo ribų. Jis žaidžia tamsiausiais jausmais\, tarsi FB algoritmas išskaičiuoja mūsų poreikius ir baimes bei apčiuopęs achilo kulną spaudžia jį taip\, kad mes savo noru tampame jo blogų tikslų juodosiomis avelėmis: bijome karo\, nekenčiame kito\, kaimyno\, svetimo ir svarbiausia – pavydime. Tai pats niekingiausias ir kartu pats efektingiausias valdymas – valdymas sukeliant baimę ir pavydą“\, – apie „Otelo“ premjerą pasakoja O. Koršunovas. \nO. Koršunovo „Otelas“ – prestižinio Avinjono festivalio 2020 m. pagrindinės programos pasirinkimas.
URL:https://kdt.lt/event/otelas-2021-11-05/
LOCATION:Didžioji salė\, Teatro g. 2\, Klaipėda\, Lietuva
CATEGORIES:Svečių renginiai
ATTACH;FMTTYPE=image/jpeg:https://kdt.lt/wp-content/uploads/2021/10/Ot-22-foto-D.Matvejev-scaled.jpg
END:VEVENT
BEGIN:VEVENT
DTSTART;TZID=Europe/Vilnius:20211130T190000
DTEND;TZID=Europe/Vilnius:20211130T201500
DTSTAMP:20260422T182401
CREATED:20211012T143231Z
LAST-MODIFIED:20211020T104809Z
UID:2112-1638298800-1638303300@kdt.lt
SUMMARY:CIRCULUM
DESCRIPTION:Naujausias Apeirono teatro spektaklis CIRCULUM – tai spektaklis\, kurio pagrindinis inspiracinis taškas – W. Shakespearo „Hamletas“. „Žodžiai\, žodžiai\, žodžiai“ šiame spektaklyje nieko nereiškia. Jų paprasčiausiai nėra. \nKas lieka\, kai iš Šekspyro atimami žodžiai? Istorija\, atsikartojanti tūkstančius kartų kiekvienoje kartoje. Veiksmas\, atsikartojantis kiekvieną akimirką skirtingose pasaulio vietose\, nepaisant kultūrinių ar socialinių skirtumų. Priežastis ir pasekmė. Gyvybės ir mirties ratas. \nTai judesio spektaklis\, atliekamas trijų aktorių\, visą spektaklį veikiančių ant / po / viduje / aplink sunkų metalinį žiedą (circulum).
URL:https://kdt.lt/event/circulum/
LOCATION:Mažoji salė\, Teatro g. 2\, Klaipėda
CATEGORIES:Svečių renginiai
ATTACH;FMTTYPE=image/jpeg:https://kdt.lt/wp-content/uploads/2021/10/id_91336.jpg
END:VEVENT
END:VCALENDAR