BEGIN:VCALENDAR
VERSION:2.0
PRODID:-//Klaipėdos dramos teatras - ECPv6.10.3//NONSGML v1.0//EN
CALSCALE:GREGORIAN
METHOD:PUBLISH
X-WR-CALNAME:Klaipėdos dramos teatras
X-ORIGINAL-URL:https://kdt.lt
X-WR-CALDESC:Klaipėdos dramos teatras renginiai
REFRESH-INTERVAL;VALUE=DURATION:PT1H
X-Robots-Tag:noindex
X-PUBLISHED-TTL:PT1H
BEGIN:VTIMEZONE
TZID:Europe/Vilnius
BEGIN:DAYLIGHT
TZOFFSETFROM:+0200
TZOFFSETTO:+0300
TZNAME:EEST
DTSTART:20210328T010000
END:DAYLIGHT
BEGIN:STANDARD
TZOFFSETFROM:+0300
TZOFFSETTO:+0200
TZNAME:EET
DTSTART:20211031T010000
END:STANDARD
END:VTIMEZONE
BEGIN:VEVENT
DTSTART;TZID=Europe/Vilnius:20211201T183000
DTEND;TZID=Europe/Vilnius:20211201T204500
DTSTAMP:20260422T163525
CREATED:20211012T144111Z
LAST-MODIFIED:20211020T110236Z
UID:2123-1638383400-1638391500@kdt.lt
SUMMARY:KAFKA INSOMNIA
DESCRIPTION:„Spalio 2. Bemiegė naktis. Jau trečia iš eilės. Aš greitai užmiegu\, bet po valandos prabundu\, lyg būčiau įkišęs galvą į nesamą skylę. Nuo tada visą naktį iki penkių tarsi miegu\, tačiau tuo pat metu ryškūs sapnai neleidžia užmigti. Aš formaliai tarsi miegu greta savęs\, o pats tuo metu turiu grumtis su sapnais.“ (Dienoraščiai. 1910–1923\, Franz Kafka) \nVizualinis gyvos muzikos spektaklis paaugliams ir suaugusiems „KAFKA INSOMNIA“ pasakoja sapniškai realistišką čekų rašytojo Franco Kafkos vienos nemigos nakties istoriją. Sapnavimas būdraujant – tai kūrybos metodas\, gyvenimo būdas\, ligos padarinys ar pagrindinė Kafkos literatūrinio pasaulio genialumo sąlyga? Nemigos kuriamas ir į apčiuopiamą tikrovę įsiveržiantis sapnas F. Kafkos kūrybą paverčia sąlygine\, pilną netikėtų įvaizdžių\, ištęsto laiko pojūčio\, pirmalaikių absurdo\, egzistencializmo ar net siurrealizmo apraiškų\, einančių koja kojon su realizmo mokyklai būdingais nuosekliais aprašymais. \nProjekto inciatorius kompozitorius Andrius Šiurys (2020 m. Lietuvos kompozitorių sąjungos Jaunojo kompozitoriaus prizas) muzikinio spektaklio idėją pagal F. Kafkos kūrybą nešiojosi jau seniai. „Kartą\, maždaug prieš pusantrų metų\, iškėliau sau klausimą – nuo kurio menininko kūrybos atsispirdamas norėčiau sukurti audiovizualinį spektaklį? Kokiam menininkui – dailininkui\, poetui\, kompozitoriui – labiausiai pritariu? Ir kas yra tie žmonės\, su kuriais turėčiau tai daryti – eksperimentuoti\, improvizuoti ir nardyti ten\, kur vienas atsidurti neišdrįsčiau? Tuo metu F. Kafką pasirinkau dėl jo tamsos ir absurdo. Jau gerokai anksčiau žinodamas režisieriaus Žilvino Vingelio asmenybę bei jo kūrybos stilių (ypatingai vertinu jo gebėjimą jungti skirtingas meno formas bei siurrealistinę teatrinę kalbą)\, neabejojau – šį spektaklį turime kurti kartu. Su Žilvinu esame sukūrę ne vieną darbą\, praktiškai ir teoriškai kartu tyrinėjome vizualinio teatro žanrą\, svajojome apie savo eksperimentinį teatrą. Jam itin svarbi spektaklio muzika\, taip pat turime panašų matymą\, todėl smagu\, jog „Kafka Insomnia“ karantino dėka tampa pirmuoju mūsų naujojo teatro „Kosmos Theatre“ spektakliu teatro scenoje”. \n„Komanda surinkta labai stipri ir įvairi. Nors kartu dirbame ne pirmą kartą\, bet pirmą kartą su tokia atvira medžiaga ir tokioje eksperimentinėje aplinkoje. F. Kafkos pasaulyje viskas stovi vietoje\, niekam nelemta išjudėti iš esamo taško ir tuo pat metu – gyvybės tame taške daugiau\, nei sugebame aprėpti. Tai literatūra\, scenoje iškelianti reliatyvaus laiko organizavimo poreikį\, vaizdo ir atmosferos svarbą\, siūlanti naujus scenų montažo būdus. Joje grėsmingai koketuoja humoras ir siaubas\, veiksmas ir stagnacija\, garsas ir tyla. Tų tylų bei garsų ieškoti ir pats\, be abejonės\, būčiau kvietęsis Andrių\, todėl smagu\, kad jis tai padarė pirmas. Procesas nėra tradicinis. Leidžiame sau pradėti nuo asociacijų\, o ne nuo teksto\, intuicijos\, o ne naratyvo. Manau\, kad šis spektaklis bus įdomus tiek tradicinei teatro publikai\, tiek ilgais monologais ir rūmų intrigomis nebesižavintiems jaunesniems žiūrovams.” – teigia spektaklio režisierius Žilvinas Vingelis. \n„KAFKA INSOMNIA“ – įvaizdžių\, garsų ir medijų spektaklis\, kuriamas pagal 2020 metų kovą teatro puslapyje paviešintą „Kosmos manifestą“. Draminės vaidybos\, gyvai atliekamos elektroakustinės muzikos\, videoprojekcijų\, šiuolaikinio objektų teatro bei garsinių manipuliacijų pagalba „Kosmos Theatre“ kūrėjai gilinsis į paranojišką ir kerinčią legendinio čekų autoriaus kūrinių atmosferą\, pagrindines rašytojo gyvenimo peripetijas\, nemigos simptomus\, vaizdines bei garsines haliucinacijas ir kartu ieškos niekada nepabaigto ir niekada nesibaigsiančio kafkiško pasaulio ribos.
URL:https://kdt.lt/event/kafka-insomnia/
LOCATION:Mažoji salė\, Teatro g. 2\, Klaipėda
CATEGORIES:Svečių renginiai
ATTACH;FMTTYPE=image/jpeg:https://kdt.lt/wp-content/uploads/2021/10/id_79454.jpg
END:VEVENT
BEGIN:VEVENT
DTSTART;TZID=Europe/Vilnius:20211205T183000
DTEND;TZID=Europe/Vilnius:20211205T191500
DTSTAMP:20260422T163525
CREATED:20211130T151255Z
LAST-MODIFIED:20211130T151427Z
UID:4426-1638729000-1638731700@kdt.lt
SUMMARY:DÉBUT
DESCRIPTION:Premjera \nŠokio ir judesio spektaklis DÉBUT \nGyvenimo etapų įtaka jausmams.\nKaip priimti naują pradžią?\nKaip neužsidaryti\, išgirsti ir suprasti save?
URL:https://kdt.lt/event/debut/
LOCATION:Kamerinė salė
CATEGORIES:Svečių renginiai
ATTACH;FMTTYPE=image/jpeg:https://kdt.lt/wp-content/uploads/2021/11/sokio-ir-judesio-spektaklis-debut-37c6_lt__1635627131.jpeg
END:VEVENT
BEGIN:VEVENT
DTSTART;TZID=Europe/Vilnius:20211207T190000
DTEND;TZID=Europe/Vilnius:20211207T201500
DTSTAMP:20260422T163525
CREATED:20211129T121130Z
LAST-MODIFIED:20211129T121303Z
UID:4363-1638903600-1638908100@kdt.lt
SUMMARY:STABAT MATER
DESCRIPTION:Apeirono teatro spektaklis „Stabat Mater“ (rež: Eglė Kazickaitė)\, sukurtas pagal 1907 metais švedų rašytojo\, dramaturgo Augusto Stindbergo pjesę „Pelikanas“. Šiaurės ir rytų europos teatro klasikos dramaturginis kūrinys čia pateiktas pačia netikėčiausia\, bet vizualiai tikslia ir labai įtaigia forma. \nPaties A. Strindbergo pjesės to meto Švedijoje buvo vertinamos itin kritiškai\, kaltinant rašytoją grubia kalba ir nepadoriais literatūriniais paveikslais. Paradoksalu\, kad 2018 metais\, demokratijos epogėjuje Apeirono teatro režisierė\, statydama spektaklį „Stabat Mater“\, visiškai išsižada darmaturgo tekstų. Motyvuodama savo pasirinkimą\, režisierė cituoja A. Strindbergo sukurtos pjesės „Pelikanas“ veikėjos Dukros žodžius: \n\n„Mes labai daug kalbame\, bet gali būti\, jog tai darome tam\, kad žodžiais užmaskuotume esmę\, tiesą.“. \n\nAnot režisierės tiesa ir tikrumas yra ne žodžiuose. \nŠi frazė nejučia tampa spektaklio kertine ašimi\, kuomet tekstų atsisakymą pakeičia metaforinė aktorių kūno kalba. Spektaklis\, nevirtęs šokio spektakliu\, tampa kruopščiai psichologizuotu\, nebyliu veikėjų spekuliacijų lauku\, kuriame santykių manipuliacijos reiškiasi kūnų pavidalų ir daiktinių formų pagalba kuriamais paveikslais. Sekvencijos „Stabat Mater“ fone pjesės pagrindinė veikėja Motina vyro rankomis paverčiama Milo Veneros skulptūros klonu\, ikona. Siekiant moters laisvės apribojimo\, kad vyro gyvenime ji galėtų tarnauti kaip Motinos funkcija -jai nukertamos rankos. Šimtų puodų\, kaip pragaištingos archetipinės pasaulėvaizdos ir buities fone vyskta Moters ir jos šeimos tragedija: \nMoters prigimtis – būti Motina. Būti atsidavusia\, pasiaukojančia\, kenčiančia\, vakarais tyliai verkiančia ir šluostančia ašarą į skarą dėl savo vaikų. Atiduoti visą save vyrui ir vaikams. Pradžioj širdį. Paskui – rankas. Jei prireikia – kojas. Galiausiai likti tik torsu. Bet būtinai gražiu. \nMoters prigimtis – nesigailėti ir negailėti nieko\, ką atidavei šeimai. Moters prigimtis – nejusti alkio\, tik vis maitinti alkstančius. \nBet Ji nejuto tos prigimties. Jai trūko iš jos atimtų ir moteriškai prigimčiai atiduotų rankų. Todėl Ji jas tiesiog atsiėmė.
URL:https://kdt.lt/event/stabat-mater/
LOCATION:Mažoji salė\, Teatro g. 2\, Klaipėda
CATEGORIES:Svečių renginiai
ATTACH;FMTTYPE=image/jpeg:https://kdt.lt/wp-content/uploads/2021/11/id_63176.jpg
END:VEVENT
BEGIN:VEVENT
DTSTART;TZID=Europe/Vilnius:20211210T183000
DTEND;TZID=Europe/Vilnius:20211210T200000
DTSTAMP:20260422T163525
CREATED:20211130T152146Z
LAST-MODIFIED:20220117T085226Z
UID:4431-1639161000-1639166400@kdt.lt
SUMMARY:GYVENIMAS JUODOJE
DESCRIPTION:Tai autobiografinėmis dviejų moterų istorijomis paremtas judesio ir dramos spektaklis\, kviečiantis svarstymui apie vidinę žmogaus laisvę. \nKas yra mūsų vidiniai kalėjimai? Kur jie yra\, kaip į juos patenkame ir kaip iš jų ištrūksime? \nDvi\, viena kitos nepažįstančios moterys\, atsibunda neapibrėžtoje\, šaltoje\, tylioje ir tamsioje erdvėje. Sapnų pavidalu prisimenami gyvenimo fragmentai pradeda judinti kažką\, kas seniai trikdo ir skaudina moteris\, išgyvenančias būties krizes. Ar šioje keistoje vietoje yra dar kažkas\, išklausantis moterų balsus? Kažkas\, kam dar rūpi sužeistos sielos? Kas būtent sugriovė mūsų tikėjimą į laisvę ir kaip mums elgtis\, norint vėl patikėti šviesa? Kunigas\, pats patiriantis savo pasišventimo suklupimą\, aukojasi ir jungiasi į moterų istorijas tam\, kad juodą perdažytų baltai\, o skausmą pakeistų atsakymais. Lyg Kristus – jungtis tarp žmogaus ir Dievo – kunigas atsiduria čia\, kad parodytų kelią nuo suvaržymų iki laisvės. \n\n„Gyvenimas Juodoje“ – tai aliuzija į gyvenimą\, vilkint juodą suknelę. Suknelę\, kuri įkalina mus savo pačių galvose. \n\nKaip elgtis\, kai tavo praeitis virsta į dabarties traumas\, kai prarandi tikėjimą kitais ir pačiu savimi? Spektaklio kūrybinė komanda išdrįsta apnuoginti savo sielas\, papasakoti apie juodžiausius savo gyvenimo etapus tam\, kad primintų mums apie pagalbos vieni kitiems svarbą. Argi retai girdime frazę „mes ne vieni\, bet mes vieniši“? Norėdami atkreipti dėmesį į šias problemas\, kūrėjai dalinasi savo gyvenimo išpažintimis\, kviesdami ir kitus atverti savo sielas.
URL:https://kdt.lt/event/gyvenimas-juodoje/
LOCATION:Kamerinė salė
CATEGORIES:Svečių renginiai
ATTACH;FMTTYPE=image/jpeg:https://kdt.lt/wp-content/uploads/2021/11/judesio-ir-dramos-spektaklis-gyvenimas-juodoje_lt__1635628717.jpeg
END:VEVENT
BEGIN:VEVENT
DTSTART;TZID=Europe/Vilnius:20211212T110000
DTEND;TZID=Europe/Vilnius:20211212T114500
DTSTAMP:20260422T163525
CREATED:20211018T131753Z
LAST-MODIFIED:20211130T150420Z
UID:2095-1639306800-1639309500@kdt.lt
SUMMARY:Debesų žaidynės
DESCRIPTION:„Debesų žaidynės“ – interaktyvus šokio ir judesio spektaklis\, skirtas 18-24 mėnesių kūdikiams bei jų tėveliams. Tai antroji spektaklių kūdikiams trilogijos dalis. \n„Debesų gaudyklės“ tęsinyje žiūrovų lauks Debesų šeima – Tėtis\, Mama ir du vaikai. Per muzikos garsus ir besikeičiančius objektus\, kūdikiai ir tėveliai bus įtraukti į sekamą istoriją – apie tai\, kaip Debesis Tėtis ir Debesis Mama\, pažadinti lietaus garsų\, pradeda dar vieną dieną\, kaip sekasi ryte pabudinti savo vaikus\, kaip ieškomi kasdieniai kompromisai ir apie tai\, kaip gera šnekučiuojantis gerti rytinę lietaus arbatą. \nKitokioje spektaklio aplinkoje kartu su savo mažyliais lavinsite jų smalsumą\, judrumą\, kursite tarpusavio ryšį. Nuo pat pradžios kartu sukursime saugią erdvę\, kurioje kūdikiai galės eksperimentuoti\, laisvai judėti ir žaisti kartu su aktoriais. \nBūtent 18–24 mėnesių amžiaus laikotarpyje vystosi kūdikio suvokimas \,\,kas aš?“ ir \,\,kas čia?“. Antrąja spektaklių trilogijos dalimi norima pabrėžti šeimos svarbą vaiko gyvenime. Šeima – tai vaiko saugumo ir meilės šaltinis bei pamatas. Tėveliams žaidžiant su vaikais\, skiriant jiems savo laiko\, ugdomas bendrumo jausmas. Tokiu amžiaus laikotarpiu ypač svarbus tėvų buvimas šalia ir vaiko atradimų patvirtinimas.
URL:https://kdt.lt/event/debesu-zaidynes/
LOCATION:Kamerinė salė
CATEGORIES:Svečių renginiai
ATTACH;FMTTYPE=image/jpeg:https://kdt.lt/wp-content/uploads/2021/10/debesu-zaidynes.jpeg
END:VEVENT
BEGIN:VEVENT
DTSTART;TZID=Europe/Vilnius:20211214T190000
DTEND;TZID=Europe/Vilnius:20211214T200000
DTSTAMP:20260422T163525
CREATED:20211012T134727Z
LAST-MODIFIED:20211020T110851Z
UID:2092-1639508400-1639512000@kdt.lt
SUMMARY:NEKALTAS PRASIDĖJIMAS
DESCRIPTION:Apeirono teatro premjeros „Nekaltas prasidėjimas“ inspiracijos tašku tapo neseniai tarptautinėje spaudoje pasirodęs straipsnis apie Sardinijos saloje\, Cala Gonone akvariume palikuonio susilaukusią ryklio patelę\, kuri daugiau nei dešimt metų gyveno su vienintele savo kompanione – tai pačiai ryklių rūšiai priklausančia patele.\nMokslininkų teigimu\, partenogenezės reiškinys susidarė tose gyvūnų rūšyse\, kurių mirštamumas labai aukštas arba kuriems būdavo sunku susirasti priešingos lyties individą\, pvz amarai\, bitės\, skruzdės\, verpetės ir kt.\nSpektaklio kūrėjai klausimą „kas būna\, kai niekas negimsta?“\, kelia plačiąja prasme – kai negimsta idėjos\, aistra\, vaikai\, revoliucijos\, naujos gyvybės formos? Bet tuo pačiu – ar gali būti\, kad kažkas gimsta ir tada\, kai niekas negimsta?\nAktorių pagrindine priemone pasirinktas baltas popieriaus lapas – savotiška tabula rasa\, kurioje apstu erdvės kažkam užgimti\, bet čia į aprašymą įsiterpia penkių vaikų mama: „Žinokit\, ant A4 bus labai sunku pagimdyti\, nes pražergtos kojos vistiek lįs už kraštų“.
URL:https://kdt.lt/event/nekaltas-prasidejimas-2021-12-14/
LOCATION:Kamerinė salė
CATEGORIES:Svečių renginiai
ATTACH;FMTTYPE=image/jpeg:https://kdt.lt/wp-content/uploads/2021/10/id_91352.jpg
END:VEVENT
BEGIN:VEVENT
DTSTART;TZID=Europe/Vilnius:20211218T120000
DTEND;TZID=Europe/Vilnius:20211218T130000
DTSTAMP:20260422T163525
CREATED:20211129T111825Z
LAST-MODIFIED:20211202T093203Z
UID:4337-1639828800-1639832400@kdt.lt
SUMMARY:KALĖDŲ GIESMĖ
DESCRIPTION:Spektaklis šeimai pagal pagal Ch. Dickenso Kalėdų pasakojimą „Kalėdų giesmė“. \n„Laimingos\, laimingos Kalėdos\, kurios gali sugrąžinti mums vaikystės dienų iliuzijas\, priminti seniui jaunystės džiaugsmus ir perkelti jūreivį arba keliauninką iš už daugelio tūkstančių mylių atgal\, prie gimtojo židinio\, į jaukiuosius namus“ – Charlesas Dickensas. \nSpektaklis sukurtas pagal garsaus anglų rašytojo Charleso Dickenso to paties pavadinimo apysaką\, kurioje pasakojama apie šykštuolį Ebenzerį Skrudžą\, kuris nemato prasmės džiaugtis Kalėdomis\, kol Kūčių vakarą jo neaplanko trys Dvasios. Šiandien ši apysaka pati yra tapusi Kalėdų tradicija\, ji jaudina seną ir jauną\, vargšą ir turtingą tiek pat\, kiek ir 1843 m.\, kai pasirodė pirmą kartą. Tai viena iš geriausių visų laikų kalėdinių istorijų ir… pati pirmoji. \nSvarbiausia sceninio žaidimo terpe virto laikas ir jo skaičiavimo\, matavimo\, fiksavimo mechanizmai.\nScenoje matome keistą objektą\, tarsi didelį laikrodį\, tarsi paslaptingą grimo kambarį\, kur spektakliui besiruošiantys aktoriai skaičiuoja iki pasirodymo likusias minutes ir taip garsiai primena mums apie nuolatinę laiko tėkmę…\nPagrindinį istorijos personažą Skrudžą ir jo velionį draugą Marlį vaidinantys aktoriai scenoje žaidžia naudodami šiuolaikinės klounados principus\, o tai jiems suteikia daug erdvės ir galios įtaigiai\, netikėtai ir įdomiai papasakoti šią viktorijos laikų istoriją šiuolaikiškai.\nSpektaklyje naudojamos skirtingų laikmečių medijos ir jose transliuojami vaizdai žadina praeities prisiminimus\, leidžia tarsi iš šalies stebėti dabarties Kalėdų vaizdus ir sufantazuoti\, kokių Kalėdų laukiame!
URL:https://kdt.lt/event/kaledu-giesme/
LOCATION:Kamerinė salė
CATEGORIES:Svečių renginiai
ATTACH;FMTTYPE=image/jpeg:https://kdt.lt/wp-content/uploads/2021/11/id_93630.jpg
END:VEVENT
BEGIN:VEVENT
DTSTART;TZID=Europe/Vilnius:20211219T120000
DTEND;TZID=Europe/Vilnius:20211219T130000
DTSTAMP:20260422T163525
CREATED:20211129T111825Z
LAST-MODIFIED:20211202T093203Z
UID:4347-1639915200-1639918800@kdt.lt
SUMMARY:KALĖDŲ GIESMĖ
DESCRIPTION:Spektaklis šeimai pagal pagal Ch. Dickenso Kalėdų pasakojimą „Kalėdų giesmė“. \n„Laimingos\, laimingos Kalėdos\, kurios gali sugrąžinti mums vaikystės dienų iliuzijas\, priminti seniui jaunystės džiaugsmus ir perkelti jūreivį arba keliauninką iš už daugelio tūkstančių mylių atgal\, prie gimtojo židinio\, į jaukiuosius namus“ – Charlesas Dickensas. \nSpektaklis sukurtas pagal garsaus anglų rašytojo Charleso Dickenso to paties pavadinimo apysaką\, kurioje pasakojama apie šykštuolį Ebenzerį Skrudžą\, kuris nemato prasmės džiaugtis Kalėdomis\, kol Kūčių vakarą jo neaplanko trys Dvasios. Šiandien ši apysaka pati yra tapusi Kalėdų tradicija\, ji jaudina seną ir jauną\, vargšą ir turtingą tiek pat\, kiek ir 1843 m.\, kai pasirodė pirmą kartą. Tai viena iš geriausių visų laikų kalėdinių istorijų ir… pati pirmoji. \nSvarbiausia sceninio žaidimo terpe virto laikas ir jo skaičiavimo\, matavimo\, fiksavimo mechanizmai.\nScenoje matome keistą objektą\, tarsi didelį laikrodį\, tarsi paslaptingą grimo kambarį\, kur spektakliui besiruošiantys aktoriai skaičiuoja iki pasirodymo likusias minutes ir taip garsiai primena mums apie nuolatinę laiko tėkmę…\nPagrindinį istorijos personažą Skrudžą ir jo velionį draugą Marlį vaidinantys aktoriai scenoje žaidžia naudodami šiuolaikinės klounados principus\, o tai jiems suteikia daug erdvės ir galios įtaigiai\, netikėtai ir įdomiai papasakoti šią viktorijos laikų istoriją šiuolaikiškai.\nSpektaklyje naudojamos skirtingų laikmečių medijos ir jose transliuojami vaizdai žadina praeities prisiminimus\, leidžia tarsi iš šalies stebėti dabarties Kalėdų vaizdus ir sufantazuoti\, kokių Kalėdų laukiame!
URL:https://kdt.lt/event/kaledu-giesme-2021-12-19/
LOCATION:Kamerinė salė
CATEGORIES:Svečių renginiai
ATTACH;FMTTYPE=image/jpeg:https://kdt.lt/wp-content/uploads/2021/11/id_93630.jpg
END:VEVENT
BEGIN:VEVENT
DTSTART;TZID=Europe/Vilnius:20211227T183000
DTEND;TZID=Europe/Vilnius:20211227T200000
DTSTAMP:20260422T163525
CREATED:20211129T112343Z
LAST-MODIFIED:20220209T123430Z
UID:4348-1640629800-1640635200@kdt.lt
SUMMARY:JAUSMŲ DŽIAZAS
DESCRIPTION:Poezijos ir muzikos improvizacijų vakaras „Jausmų džiazas“ kartu su aktore Egle Jackaite ir džiazo virtuozu Vytautu Labučiu nepaliks abejingų – eilėraščiai ir muzika palies kiekvieno širdį. \n\nKiekvienas atras savo istoriją\, jautriai susimąstys:\n„Juk tai apie mane!“\nKiekvienam atėjusiam tai bus susitikimas su savo siela – norėsis skęsti jausmų vandenyne. \n\nPoezija tarsi malda išlaisvina\, atpalaiduoja\, sušildo ir pripildo mus šviesos\, kurią kiekvienas turime\, bet dažnai neleidžiame jai suspindėti. \nSavo kūną mes dažnai palepiname: jį prausiame\, maitiname\, šildome\, rūpinamės\, o sielai ir jausmams ne tik pritrūksta laiko\, bet dažnas ir nepagalvoja\, kad vidumi taip pat reikia rūpintis! \nJuk nėra kūno be sielos ir visa yra viena. \nGražiausias lietuvių ir užsienio poetų eiles ir jausmingas dainas nuoširdžiai ir atvirai atliks aktorė Eglė Jackaitė. \nSvaiginančios muzikinės improvizacijos – absoliutus džiazo virtuozas\, kurio muzika – numyluoja\, svaigina\, užburia… – Vytautas Labutis. \n 
URL:https://kdt.lt/event/jausmu-dziazas/
LOCATION:Kamerinė salė
CATEGORIES:Svečių renginiai
ATTACH;FMTTYPE=image/jpeg:https://kdt.lt/wp-content/uploads/2021/11/id_93432.jpg
END:VEVENT
BEGIN:VEVENT
DTSTART;TZID=Europe/Vilnius:20211229T180000
DTEND;TZID=Europe/Vilnius:20211229T190000
DTSTAMP:20260422T163525
CREATED:20211129T113602Z
LAST-MODIFIED:20220325T125516Z
UID:4355-1640800800-1640804400@kdt.lt
SUMMARY:ŽIURKIAGALVIAI
DESCRIPTION:Ši istorija – tai žaisminga metafora apie atstūmimą ir kitoniškumą. Žefis ir Žefas – broliai dvyniai nuo gimimo ir nuo likimo\, gimę su žiurkių galvomis\, kurias visada turėjo slėpti po kapišonais. Įvairūs jų bandymai rasti sau vietą žmonių bendruomenėje baigiasi nesėkmingai. Tai žmonės\, nublokšti į socialinį užribį\, kuris taip pat yra visuomejės sudedamoji dalis. \n\nŽefis ir Žefas kelia klausimus\, bandydami suprasti ir išsiaiškinti\, ką jie padarė ne taip\, kodėl jie yra kitokie ir ar jie iš tiesų kitokie? \n\nKodėl pasaulis jų nepriima? Jų pasakojama istorija pateikiama kaip liudijimas ar prisipažinimas\, kur patys žiūrovai nusprendžia\, kas šioje situacijoje yra kaltas.
URL:https://kdt.lt/event/ziurkiagalviai/
LOCATION:Kamerinė salė
CATEGORIES:Svečių renginiai
ATTACH;FMTTYPE=image/png:https://kdt.lt/wp-content/uploads/2021/11/id_63065.png
END:VEVENT
BEGIN:VEVENT
DTSTART;TZID=Europe/Vilnius:20211230T183000
DTEND;TZID=Europe/Vilnius:20211230T193000
DTSTAMP:20260422T163525
CREATED:20211123T100640Z
LAST-MODIFIED:20211123T100640Z
UID:4069-1640889000-1640892600@kdt.lt
SUMMARY:Spąstai
DESCRIPTION:Tarptautinė Lietuvos ir Prancūzijos scenos menininkų komanda pristato kaukių ir objektų teatro spektaklį „Spąstai“. Gastroliavęs Italijoje\, Prancūzijoje\, Ukrainoje\, spektaklis pagaliau atvyksta pas Klaipėdos žiū-rovus.\nVizualiuose\, siurrealistiniuose „Spąstuose“ visapusiškai tyrinėjama ma-nipuliacijos tema. Spektaklis įkvėptas asmeninės kūrėjų patirties ir susidūrimų su apgaulinga\, manipuliatyvia tikrove bei kaukės fenomenu kasdienybėje. Meninę „Spąstų“ formą įkvėpė kaukės simbolio įvaizdis ir meninės interpretacijos kūrėjų Stasio Eidrigevičiaus ir Jano Švankmajerio darbuose.\n„Spąstų“ veikėjos nuolat patenka į manipuliatyvius tinklus: išnaudojimo scenarijai darbo rinkoje\, statuso\, įsivaizduojamų nusikaltimų\, visuomenės normų\, asmeninių baimių ir nerealistinių svajonių spąstai. Tam\, kad apsigintų ir prisitaikytų\, „Spąstų“ veikėja ne vien priešinasi\, bet ir paklūsta manipuliatorių primestiems vaidmenims\, pati imdama dėvėti kaukes. Bėgdama nuo vienų spąstų\, ji vis patenka į kitus – išmoningesnius\, aršesnius\, vis nepastebimesnius\, įprastesnius šiuolaiki-nėje visuomenėje ir kasdienybėje. \n\nKaip tokiomis aplinkybėmis išlaikyti garbę ir orumą? Ar įmanoma ištrūkti iš manipuliatorių spąstų? Kur slypi nesibaigiančios manipuliacijos priežastys? \n\n„Spąstuose“ idėjos artikuliuojamos ne žodžiais\, o per objektus ir judesį. Pasitelkus kiekvienam atpažįstamus kasdienybės objektus\, spektaklyje kuriamos kaukės veikia kaip priemonė paradoksaliai atskleisti veikėjų (akt. Kristina Mauruševičiūtė\, Jūratė Trimakaitė / Vilma Raubaitė) vidinę būseną\, vis naujus jų vaidmenis visuomenėje ir komplikuotus tarpusavio santykius.\nVizualinė išraiška\, praturtinta prancūzų teatro dailininkės Cerise Guyon\, kuri pasitelkusi kasdienius biuro daiktus sukūrė originalias kaukes\, ir šviesų dailininko Felix Bataillou\, kuria tarsi pažįstamą\, bet ir labai iškreip-tą\, deformuotą\, tragikomišką pasaulį\, kuriame po medicinine kauke – dar daugiau kaukių ir mūsų vaidmenų visuomenėje.
URL:https://kdt.lt/event/spastai/
LOCATION:Kamerinė salė
CATEGORIES:Svečių renginiai
ATTACH;FMTTYPE=image/jpeg:https://kdt.lt/wp-content/uploads/2021/11/Tiketai.Pieges_Jurate_Trimakaite©Veronique-Lesperat-Hequet_068-scaled.jpg
END:VEVENT
END:VCALENDAR