BEGIN:VCALENDAR
VERSION:2.0
PRODID:-//Klaipėdos dramos teatras - ECPv6.10.3//NONSGML v1.0//EN
CALSCALE:GREGORIAN
METHOD:PUBLISH
X-ORIGINAL-URL:https://kdt.lt
X-WR-CALDESC:Klaipėdos dramos teatras renginiai
REFRESH-INTERVAL;VALUE=DURATION:PT1H
X-Robots-Tag:noindex
X-PUBLISHED-TTL:PT1H
BEGIN:VTIMEZONE
TZID:Europe/Vilnius
BEGIN:DAYLIGHT
TZOFFSETFROM:+0200
TZOFFSETTO:+0300
TZNAME:EEST
DTSTART:20220327T010000
END:DAYLIGHT
BEGIN:STANDARD
TZOFFSETFROM:+0300
TZOFFSETTO:+0200
TZNAME:EET
DTSTART:20221030T010000
END:STANDARD
END:VTIMEZONE
BEGIN:VEVENT
DTSTART;TZID=Europe/Vilnius:20220206T110000
DTEND;TZID=Europe/Vilnius:20220206T114500
DTSTAMP:20260422T132618
CREATED:20220117T082336Z
LAST-MODIFIED:20220329T102853Z
UID:5167-1644145200-1644147900@kdt.lt
SUMMARY:DEBESŲ GAUDYKLĖ
DESCRIPTION:Interaktyvus šokio ir judesio spektaklis 6–18 mėn. kūdikiams „Debesų gaudyklė”.
URL:https://kdt.lt/event/debesu-gaudykle/
LOCATION:Kamerinė salė
CATEGORIES:Svečių renginiai
ATTACH;FMTTYPE=image/jpeg:https://kdt.lt/wp-content/uploads/2022/01/IMG_20210616_113030-scaled.jpg
END:VEVENT
BEGIN:VEVENT
DTSTART;TZID=Europe/Vilnius:20220206T120000
DTEND;TZID=Europe/Vilnius:20220206T124500
DTSTAMP:20260422T132618
CREATED:20220117T082336Z
LAST-MODIFIED:20220329T102854Z
UID:5170-1644148800-1644151500@kdt.lt
SUMMARY:DEBESŲ GAUDYKLĖ
DESCRIPTION:Interaktyvus šokio ir judesio spektaklis 6–18 mėn. kūdikiams „Debesų gaudyklė”.
URL:https://kdt.lt/event/debesu-gaudykle-2022-02-06/
LOCATION:Kamerinė salė
CATEGORIES:Svečių renginiai
ATTACH;FMTTYPE=image/jpeg:https://kdt.lt/wp-content/uploads/2022/01/IMG_20210616_113030-scaled.jpg
END:VEVENT
BEGIN:VEVENT
DTSTART;TZID=Europe/Vilnius:20220208T100000
DTEND;TZID=Europe/Vilnius:20220208T104500
DTSTAMP:20260422T132618
CREATED:20220117T084604Z
LAST-MODIFIED:20220905T142258Z
UID:5173-1644314400-1644317100@kdt.lt
SUMMARY:ČIA TU? ČIA AŠ!
DESCRIPTION:Muzikinis spektaklis kūdikiams „Čia Tu? Čia Aš!“ tai spektaklis patiems mažiausiems! \n  \n\nTai smagus žaidimas\, kuriame mažieji kartu mokysis atrasti\, stebėti\, prisiliesti ir kartu įsitraukti į nepaprastą pojūčių pasaulį. \n\n  \nIš įvairiausių faktūrų\, spalvų ir geometrinių figūrų spektaklyje atsiras įvairūs atpažįstami daiktai ir gyvūnai. Specialiai šiam spektakliui sukurta muzika – ypač dinamiška\, spalvinga ir atliekama įvairiausiais instrumentais kartu su balsu. \n  \n„Čia Tu? Čia Aš!” skirtas kūdikiams nuo 6 mėnesių iki 2 metukų ir jų tėveliams.
URL:https://kdt.lt/event/cia-tu-cia-as/
LOCATION:Kamerinė salė
CATEGORIES:Svečių renginiai
ATTACH;FMTTYPE=image/png:https://kdt.lt/wp-content/uploads/2022/01/id_69873.png
ORGANIZER;CN="Klaip%C4%97dos Jaunimo Teatras":MAILTO:info@kjt.lt
END:VEVENT
BEGIN:VEVENT
DTSTART;TZID=Europe/Vilnius:20220208T120000
DTEND;TZID=Europe/Vilnius:20220208T124500
DTSTAMP:20260422T132618
CREATED:20220117T084604Z
LAST-MODIFIED:20220905T142258Z
UID:5188-1644321600-1644324300@kdt.lt
SUMMARY:ČIA TU? ČIA AŠ!
DESCRIPTION:Muzikinis spektaklis kūdikiams „Čia Tu? Čia Aš!“ tai spektaklis patiems mažiausiems! \n  \n\nTai smagus žaidimas\, kuriame mažieji kartu mokysis atrasti\, stebėti\, prisiliesti ir kartu įsitraukti į nepaprastą pojūčių pasaulį. \n\n  \nIš įvairiausių faktūrų\, spalvų ir geometrinių figūrų spektaklyje atsiras įvairūs atpažįstami daiktai ir gyvūnai. Specialiai šiam spektakliui sukurta muzika – ypač dinamiška\, spalvinga ir atliekama įvairiausiais instrumentais kartu su balsu. \n  \n„Čia Tu? Čia Aš!” skirtas kūdikiams nuo 6 mėnesių iki 2 metukų ir jų tėveliams.
URL:https://kdt.lt/event/cia-tu-cia-as-2022-02-08/
LOCATION:Kamerinė salė
CATEGORIES:Svečių renginiai
ATTACH;FMTTYPE=image/png:https://kdt.lt/wp-content/uploads/2022/01/id_69873.png
ORGANIZER;CN="Klaip%C4%97dos Jaunimo Teatras":MAILTO:info@kjt.lt
END:VEVENT
BEGIN:VEVENT
DTSTART;TZID=Europe/Vilnius:20220212T183000
DTEND;TZID=Europe/Vilnius:20220212T200000
DTSTAMP:20260422T132618
CREATED:20211130T152146Z
LAST-MODIFIED:20211130T152146Z
UID:5194-1644690600-1644696000@kdt.lt
SUMMARY:GYVENIMAS JUODOJE
DESCRIPTION:Tai autobiografinėmis dviejų moterų istorijomis paremtas judesio ir dramos spektaklis\, kviečiantis svarstymui apie vidinę žmogaus laisvę. \nKas yra mūsų vidiniai kalėjimai? Kur jie yra\, kaip į juos patenkame ir kaip iš jų ištrūksime? \nDvi\, viena kitos nepažįstančios moterys\, atsibunda neapibrėžtoje\, šaltoje\, tylioje ir tamsioje erdvėje. Sapnų pavidalu prisimenami gyvenimo fragmentai pradeda judinti kažką\, kas seniai trikdo ir skaudina moteris\, išgyvenančias būties krizes. Ar šioje keistoje vietoje yra dar kažkas\, išklausantis moterų balsus? Kažkas\, kam dar rūpi sužeistos sielos? Kas būtent sugriovė mūsų tikėjimą į laisvę ir kaip mums elgtis\, norint vėl patikėti šviesa? Kunigas\, pats patiriantis savo pasišventimo suklupimą\, aukojasi ir jungiasi į moterų istorijas tam\, kad juodą perdažytų baltai\, o skausmą pakeistų atsakymais. Lyg Kristus – jungtis tarp žmogaus ir Dievo – kunigas atsiduria čia\, kad parodytų kelią nuo suvaržymų iki laisvės. \n\n„Gyvenimas Juodoje“ – tai aliuzija į gyvenimą\, vilkint juodą suknelę. Suknelę\, kuri įkalina mus savo pačių galvose. \n\nKaip elgtis\, kai tavo praeitis virsta į dabarties traumas\, kai prarandi tikėjimą kitais ir pačiu savimi? Spektaklio kūrybinė komanda išdrįsta apnuoginti savo sielas\, papasakoti apie juodžiausius savo gyvenimo etapus tam\, kad primintų mums apie pagalbos vieni kitiems svarbą. Argi retai girdime frazę „mes ne vieni\, bet mes vieniši“? Norėdami atkreipti dėmesį į šias problemas\, kūrėjai dalinasi savo gyvenimo išpažintimis\, kviesdami ir kitus atverti savo sielas.
URL:https://kdt.lt/event/gyvenimas-juodoje-2022-02-12/
LOCATION:Kamerinė salė
CATEGORIES:Svečių renginiai
ATTACH;FMTTYPE=image/jpeg:https://kdt.lt/wp-content/uploads/2021/11/judesio-ir-dramos-spektaklis-gyvenimas-juodoje_lt__1635628717.jpeg
END:VEVENT
BEGIN:VEVENT
DTSTART;TZID=Europe/Vilnius:20220213T150000
DTEND;TZID=Europe/Vilnius:20220213T160000
DTSTAMP:20260422T132618
CREATED:20220117T090206Z
LAST-MODIFIED:20220121T092210Z
UID:5197-1644764400-1644768000@kdt.lt
SUMMARY:PUPOS
DESCRIPTION:Šv. Valentino dienos išvakarėse dovanojame jums spektaklį apie meilę\, šeimą ir santuoką\, apie iššūkius\, skaudulius ir atradimus\, praradimus ir svajones bei paslaptis… \n„Gyveno kartą diedas ir boba. Augino jie pupas…“ \nAr tai pasaka\, ar ne\, tikrovė ar sapnas\, jaunystė ar senatvė – spręskite patys. Bet tai tikrų tikriausia istorija apie draugystę\, pavydą\, mirtį ir gyvenimą\, netektis ir atradimus\, apie nesenstančias vertybes ir\, žinoma\, apie amžiną meilę. Per juoko prizmę. \n\nNes tik mokant pasijuokti iš savęs paties galima būti atviru ir teisingu sau ir savo artimiesiems. \n\n„Pabėrė jie pupas. Rinko rinko\, o viena po lova pasirito ir… sudygo” \n  \n*SPEKTAKLIS IŠPARDUOTAS*
URL:https://kdt.lt/event/pupos/
CATEGORIES:Svečių renginiai
ATTACH;FMTTYPE=image/jpeg:https://kdt.lt/wp-content/uploads/2022/01/Memel-Fest_21-21.jpg
END:VEVENT
BEGIN:VEVENT
DTSTART;TZID=Europe/Vilnius:20220217T190000
DTEND;TZID=Europe/Vilnius:20220217T202000
DTSTAMP:20260422T132618
CREATED:20220202T135604Z
LAST-MODIFIED:20220202T140246Z
UID:5390-1645124400-1645129200@kdt.lt
SUMMARY:KREICERIO SONATA
DESCRIPTION:Inscenizacija pagal Levo Tolstojaus apysaką „Kreicerio sonata“\nVieni Levo Tolstojaus apysaką „Kreicerio sonata“ laiko geriausiu jo kūriniu\, kiti priešingai\, prieštarauja jo ten išsakytoms mintims. Skandalingame kūrinyje susipina aistringa meilė\, pavydas bei visuomenės kritika. \nTraukinyje užsimezga pokalbis apie meilę\, moterų padėtį\, kylančius konfliktus šeimoje ir smurtą. Ilgai tylėjęs pakeleivis atsiveria apie savo nelaimingą santuoką. Jis vedė daug jaunesnę moterį\, pakerėjusią jį savo jaunystės grožiu ir nekaltumu. Jiems gimė penki vaikai. \nTačiau vyras nusivylęs meile ir santuoka\, kadangi poros santykiuose daug rietenų\, ginčų ir nesantaikos. Prisipažįsta\, kad apimtas pavydo ir neapykantos dėl žmonos artimo bendravimo ir muzikavimo su smuikininku\, ją nužudo. \nSavo žmoną nužudžiusio vyro išpažintį pasakoja rusų literatūros klasikas\, rašytojas Levas Tolstojus apysakoje „Kreicerio sonata“. Balansuodamas tarp feminizmo ir neapykantos moterims\, rašytojas paliečia ne vieną aktualią temą: šeimos santykiai\, lyčių lygybė\, meilė\, aistra ir smurtas. Publikuota apysaka dėl išdėstomų minčių apie santuoką ir šeimos vertybes sukėlė tarptautinį skandalą – buvo uždrausta tiek Rusijoje\, tiek JAV. \n„Kreicerio sonata“\, žvelgianti į žmonių tarpusavio santykius\, meilę\, seksą\, pavydą\, paranoją\, atgimsta Klaipėdos jaunimo teatro scenoje. Istorija vaizduoja konfliktą tarp seksualinio potraukio ir moralinių suvaržymų\, iškelia klausimus\, kurie dažnai nutylimi\, į kuriuos nenorima ar negalima atsakyti. \n 
URL:https://kdt.lt/event/kreicerio-sonata/
LOCATION:Mažoji salė\, Teatro g. 2\, Klaipėda
CATEGORIES:Svečių renginiai
ATTACH;FMTTYPE=image/jpeg:https://kdt.lt/wp-content/uploads/2022/02/sabaliauskaite-N3S_1498-e1643810308270.jpg
ORGANIZER;CN="Klaip%C4%97dos Jaunimo Teatras":MAILTO:info@kjt.lt
END:VEVENT
BEGIN:VEVENT
DTSTART;TZID=Europe/Vilnius:20220219T193000
DTEND;TZID=Europe/Vilnius:20220219T205000
DTSTAMP:20260422T132618
CREATED:20211011T132714Z
LAST-MODIFIED:20220914T105418Z
UID:5201-1645299000-1645303800@kdt.lt
SUMMARY:BŪTI
DESCRIPTION:Monodramos „Būti“ epicentre – jauna mergina Elena\, kuri pirmą kartą gyvenime pati turi priimti svarbų\, tačiau netikėtą ir labai sudėtingą sprendimą. Žinia apie neplanuotai užsimezgusią gyvybę priskiriama prie didžiausių gyvenimo sukrėtimų\, nes sprendimo akimirką žmogus suvokia\, kad gyvenimas bet kuriuo atveju pasikeis negrįžtamai. Pasimetus dėl patiriamo streso Elena užsirašo abortui\, tačiau prieš tai yra pakviečiama apsilankyti konsultacijoje\, kur specialistės patvirtintų jos apsisprendimą. Elena nė nenutuokia\, kad šis vizitas bus lemtingas. \nDovilės Katiliūtės sukurtos spektaklio dramaturgijos pagrindas – tikros moterų\, susidūrusių su neplanuotu nėštumu ar abortu\, istorijos. Dokumentinė medžiaga suteikia pjesei intymumo\, autentiškumo\, atskleidžia itin jautrias temas\, kuriomis visuomenėje kalbėti dažnai nepatogu. Ką pasirinkti? Nėštumo nutraukimą ar gimdymą neturint jokios paramos? Spektaklyje atskleidžiami būties ieškojimai – kaip „būti“? Kaip gyventi su savo pasirinkimu? Kaip kovoti su šių pasirinkimų psichologinėmis pasekmėmis\, nugalint socialinę atskirtį ar vienišumą. Ką mums reiškia būti? Ar mes iš tiesų esame? Ar mes turime teisę spręsti\, ar gali būti kiti? O gal sprendimo metu yra tik kiti? \nSpektaklio baigiamoji dalis – su neplanuotu nėštumu ar abortu susidūrusių žmonių fotografijų paroda „Esu“\, kurią lydės tikros jų istorijos. Dokumentinė paroda skirta atskleisti realius šio reiškinio mąstus šiandieninėje Lietuvoje. Po spektaklio žiūrovai turės galimybę pasinerti į gyvus\, be galo jautrius ir tikrus liudijimus\, kurie teatro fikciją perkels į realybę primenant\, jog teatras tėra melas apie tiesą\, o gyvenime režisieriai esame mes patys. \n\nBūti negalima nebūti. – kur dėsime kablelį? \n\nRežisierė L. Krivickaitė – „Spektaklyje gausu dviprasmiškumo\, šmaikščių situacijų bei nesusipratimų\, dažnai žmonės vengia sunkiomis temomis kalbėti atvirai. Spektaklyje vyraujanti pakili nuotaika\, komiškos situacijos bei humoras tarsi natūrali pagrindinės herojės apsaugos priemonė. Užuot moralizavę ar gazdinę problema\, mes ją pateikiame kaip natūralų\, žmogaus suformuotą reiškinį\, kuris prasidėjo atsiradus galimybei kontroliuoti žmonijos gimstamumą. Neplanuotas nėštumas ar aborto reiškinys iš pažiūros labai tamsios temos\, tačiau pasirinkus tinkamą pažinties būdą ši istorija pasakojama edukuojant žiūrovą\, skatinant jį permąstyti savo atsiradimą bei tikslą šiame pasaulyje. Žmogiškasis skausmas dažnai priverčia atsigręžti į esmines vertybes\, todėl spektaklyje daug meilės ir šviesos\, o pasirinkti\, būti ar ne- kiekvieno asmeninis reikalas.“
URL:https://kdt.lt/event/buti-2022-02-19/
LOCATION:Kamerinė salė
CATEGORIES:Svečių renginiai
ATTACH;FMTTYPE=image/jpeg:https://kdt.lt/wp-content/uploads/2021/10/id_90462-e1642420819501.jpg
END:VEVENT
BEGIN:VEVENT
DTSTART;TZID=Europe/Vilnius:20220223T100000
DTEND;TZID=Europe/Vilnius:20220223T104500
DTSTAMP:20260422T132618
CREATED:20220117T084604Z
LAST-MODIFIED:20220905T142259Z
UID:5189-1645610400-1645613100@kdt.lt
SUMMARY:ČIA TU? ČIA AŠ!
DESCRIPTION:Muzikinis spektaklis kūdikiams „Čia Tu? Čia Aš!“ tai spektaklis patiems mažiausiems! \n  \n\nTai smagus žaidimas\, kuriame mažieji kartu mokysis atrasti\, stebėti\, prisiliesti ir kartu įsitraukti į nepaprastą pojūčių pasaulį. \n\n  \nIš įvairiausių faktūrų\, spalvų ir geometrinių figūrų spektaklyje atsiras įvairūs atpažįstami daiktai ir gyvūnai. Specialiai šiam spektakliui sukurta muzika – ypač dinamiška\, spalvinga ir atliekama įvairiausiais instrumentais kartu su balsu. \n  \n„Čia Tu? Čia Aš!” skirtas kūdikiams nuo 6 mėnesių iki 2 metukų ir jų tėveliams.
URL:https://kdt.lt/event/cia-tu-cia-as-2022-02-23/
LOCATION:Kamerinė salė
CATEGORIES:Svečių renginiai
ATTACH;FMTTYPE=image/png:https://kdt.lt/wp-content/uploads/2022/01/id_69873.png
ORGANIZER;CN="Klaip%C4%97dos Jaunimo Teatras":MAILTO:info@kjt.lt
END:VEVENT
BEGIN:VEVENT
DTSTART;TZID=Europe/Vilnius:20220223T120000
DTEND;TZID=Europe/Vilnius:20220223T124500
DTSTAMP:20260422T132618
CREATED:20220117T084604Z
LAST-MODIFIED:20220905T142300Z
UID:5190-1645617600-1645620300@kdt.lt
SUMMARY:ČIA TU? ČIA AŠ!
DESCRIPTION:Muzikinis spektaklis kūdikiams „Čia Tu? Čia Aš!“ tai spektaklis patiems mažiausiems! \n  \n\nTai smagus žaidimas\, kuriame mažieji kartu mokysis atrasti\, stebėti\, prisiliesti ir kartu įsitraukti į nepaprastą pojūčių pasaulį. \n\n  \nIš įvairiausių faktūrų\, spalvų ir geometrinių figūrų spektaklyje atsiras įvairūs atpažįstami daiktai ir gyvūnai. Specialiai šiam spektakliui sukurta muzika – ypač dinamiška\, spalvinga ir atliekama įvairiausiais instrumentais kartu su balsu. \n  \n„Čia Tu? Čia Aš!” skirtas kūdikiams nuo 6 mėnesių iki 2 metukų ir jų tėveliams.
URL:https://kdt.lt/event/cia-tu-cia-as-2022-02-23-2/
LOCATION:Kamerinė salė
CATEGORIES:Svečių renginiai
ATTACH;FMTTYPE=image/png:https://kdt.lt/wp-content/uploads/2022/01/id_69873.png
ORGANIZER;CN="Klaip%C4%97dos Jaunimo Teatras":MAILTO:info@kjt.lt
END:VEVENT
BEGIN:VEVENT
DTSTART;TZID=Europe/Vilnius:20220223T183000
DTEND;TZID=Europe/Vilnius:20220223T193000
DTSTAMP:20260422T132618
CREATED:20220117T092319Z
LAST-MODIFIED:20220214T140953Z
UID:5202-1645641000-1645644600@kdt.lt
SUMMARY:PLUTO
DESCRIPTION:Astrologijoje\, Pluto yra transformacijos ir pokyčių planeta. Tai kartos planeta\,o tai reiškia\, kad skirtingas kartas ji valdo skirtingais būdais\, atsižvelgiant į jos vietą danguje kliaujantis jūsų gimimo metu ir vieta. Pavyzdžiui\, pirmuosiuose astrologijos namuose\, kuriuose kalbama apie savo įvaizdžio kūrimą\, formavimą\, Pluto stengiasi dramatiškai tobulinti Jūsų esybę. Kas nutinka\, kai suvokiame\, kad tai kas mes esame\, nėra tai\, kuo mums lemta būti? Pokalbis tarp mūsų vidinio vaiko ir šešėlyje esančio „aš“ palieka mus nesibaigiančioje dilemoje\, kurioje siekiame nebūti nei per silpni\, nei per stiprūs. \n\nMes esame viskas ir nieko. Esame geri ir blogi. Esame švelnūs ir griežti. \n\nMes visada esame netinkami ir tampame tinkamais kiekvieną dieną. Raskite ramybę tamsoje\, nes šviesa be jos negali egzistuoti. Leisk sau atgimti ir pakilti kaip feniksui iš pelenų\, kaip darei jau ne kartą. \nAstrologijoje\, Pluto yra transformacijos ir pokyčių planeta. Tai kartos planeta\,o tai reiškia\, kad skirtingas kartas ji valdo skirtingais būdais\, atsižvelgiant į jos vietą danguje kliaujantis jūsų gimimo metu ir vieta. Pagrindinė spektaklio idėja yra kelionė per savąjį identitetą. Tai labai techniškas\, dinamiškas\, galingas\, emocionalus bei nuotaikingas kūrinys.
URL:https://kdt.lt/event/pluto/
LOCATION:Mažoji salė\, Teatro g. 2\, Klaipėda
CATEGORIES:Svečių renginiai
ATTACH;FMTTYPE=image/png:https://kdt.lt/wp-content/uploads/2022/01/event_cover_pluto.png
ORGANIZER;CN="Kauno %C5%A1okio teatras %E2%80%9EAura%E2%80%9C":MAILTO:info@aura.lt
END:VEVENT
BEGIN:VEVENT
DTSTART;TZID=Europe/Vilnius:20220226T193000
DTEND;TZID=Europe/Vilnius:20220226T203000
DTSTAMP:20260422T132618
CREATED:20220117T113449Z
LAST-MODIFIED:20220902T132541Z
UID:5212-1645903800-1645907400@kdt.lt
SUMMARY:MUSĖ
DESCRIPTION:„Musė”\, tai I dalies absurdo drama\, pagal to paties pavadinimo D. Čepauskaitės pjesę. Kviečiame žiūrovus pasinerti į subtilias kasdienių santykių vingrybes – apipintas absurdo detalėmis. \n\nKomiškas\, drąstiškai realistiškas ir priverčiantis susimąstyti spektaklis\, kuris\, turime įspėti\, gali „atverti akis” \n\n„Musė” – teatrų festivalyje-konkurse „Atspindžiai” apdovanota kaip „Metų debiutas”\, o spektaklio kompozitorė Gintarė Valionytė nominuota už „Geriausią spektaklio muziką”. \n 
URL:https://kdt.lt/event/muse/
LOCATION:Kamerinė salė
CATEGORIES:Svečių renginiai
ATTACH;FMTTYPE=image/jpeg:https://kdt.lt/wp-content/uploads/2022/01/Z6R_5789-scaled.jpg
ORGANIZER;CN="Teatras ARTYN":MAILTO:artyn.teatras@gmail.com
END:VEVENT
BEGIN:VEVENT
DTSTART;TZID=Europe/Vilnius:20220227T120000
DTEND;TZID=Europe/Vilnius:20220227T124000
DTSTAMP:20260422T132618
CREATED:20220117T114620Z
LAST-MODIFIED:20220407T074511Z
UID:5217-1645963200-1645965600@kdt.lt
SUMMARY:ARKLIO DOMINYKO MEILĖ
DESCRIPTION:Popierinių (origami) lėlių vaidinimas pagal Vytauto V. Landsbergio pasaką “ Arklio Dominyko meilė” šiuolaikiškai\, subtiliai ir kūrybingai pateikia žiūrovui meilės temą. \nPasakos siužetas stebinantis\, paradoksalus. Laukinis arklys Dominykas pamilsta gražią ir truputį aikštingą rugiagėlę. Artėjant žiemai\, arklys nuskina rugiagėlę ir paslepia\, nes šalna kėsinasi ją sušaldyti\, o pats iškeliauja į Afriką. Jo kelionė įdomi ir sudėtinga. Dominykas susitinka baltąją mešką\, krokodilą\, kupranugarių ir kitokių veikėjų. Pagaliau Dominykas patenka į rugiagėlių pievą\, iš kurios kilusi jo mylimoji. Artėjant pavasariui Dominykas grįžta į Lietuvą\, nes vėl turi išdygti jo rugiagėlė. \nSceninio veiksmo metu du aktoriai ( Kamilė Kondrotaitė ir Liudas Vyšniauskas) pasakodami šią istoriją naudoja įvairių dydžių\, formų popierinius lankstinius. Scenografijoje matome įvairius pasaulio žemėlapių vaizdavimo būdus \, kurie kelionės metu kinta\, keičiasi. Stebėdami lėlių ir objektų judėjimą žiūrovai nejučia įsitraukia į žaidimą\, lavina savo fantaziją\, kūrybingumą. Spektaklyje yra interaktyvių momementų\, kurie įtraukia žiūrovą ir skatina kūrybingai mąstyti kartu ieškant sprendimų. \n\nŠis meilės ir kelionių vaidinimas moko meilės ir kūrybos \, kartu jis subtiliai paliudija ir apie amžinąjį gyvenimą\, apie nuolat vykstantį atsinaujinimą. \n\nSpektaklis 2015 metais nominuotas klaipėdietiškam teatralų apdovanojimui „Padėkos kaukė” už geriausią metų spektaklį. \n 
URL:https://kdt.lt/event/arklio-dominyko-meile/
LOCATION:Kamerinė salė
CATEGORIES:Svečių renginiai
ATTACH;FMTTYPE=image/jpeg:https://kdt.lt/wp-content/uploads/2022/01/IMG_6123-e1644584732923.jpg
END:VEVENT
END:VCALENDAR