BEGIN:VCALENDAR
VERSION:2.0
PRODID:-//Klaipėdos dramos teatras - ECPv6.10.3//NONSGML v1.0//EN
CALSCALE:GREGORIAN
METHOD:PUBLISH
X-ORIGINAL-URL:https://kdt.lt
X-WR-CALDESC:Klaipėdos dramos teatras renginiai
REFRESH-INTERVAL;VALUE=DURATION:PT1H
X-Robots-Tag:noindex
X-PUBLISHED-TTL:PT1H
BEGIN:VTIMEZONE
TZID:Europe/Vilnius
BEGIN:DAYLIGHT
TZOFFSETFROM:+0200
TZOFFSETTO:+0300
TZNAME:EEST
DTSTART:20220327T010000
END:DAYLIGHT
BEGIN:STANDARD
TZOFFSETFROM:+0300
TZOFFSETTO:+0200
TZNAME:EET
DTSTART:20221030T010000
END:STANDARD
END:VTIMEZONE
BEGIN:VEVENT
DTSTART;TZID=Europe/Vilnius:20220308T190000
DTEND;TZID=Europe/Vilnius:20220308T202000
DTSTAMP:20260422T120854
CREATED:20211129T112343Z
LAST-MODIFIED:20220209T123431Z
UID:5325-1646766000-1646770800@kdt.lt
SUMMARY:JAUSMŲ DŽIAZAS
DESCRIPTION:Poezijos ir muzikos improvizacijų vakaras „Jausmų džiazas“ kartu su aktore Egle Jackaite ir džiazo virtuozu Vytautu Labučiu nepaliks abejingų – eilėraščiai ir muzika palies kiekvieno širdį. \n\nKiekvienas atras savo istoriją\, jautriai susimąstys:\n„Juk tai apie mane!“\nKiekvienam atėjusiam tai bus susitikimas su savo siela – norėsis skęsti jausmų vandenyne. \n\nPoezija tarsi malda išlaisvina\, atpalaiduoja\, sušildo ir pripildo mus šviesos\, kurią kiekvienas turime\, bet dažnai neleidžiame jai suspindėti. \nSavo kūną mes dažnai palepiname: jį prausiame\, maitiname\, šildome\, rūpinamės\, o sielai ir jausmams ne tik pritrūksta laiko\, bet dažnas ir nepagalvoja\, kad vidumi taip pat reikia rūpintis! \nJuk nėra kūno be sielos ir visa yra viena. \nGražiausias lietuvių ir užsienio poetų eiles ir jausmingas dainas nuoširdžiai ir atvirai atliks aktorė Eglė Jackaitė. \nSvaiginančios muzikinės improvizacijos – absoliutus džiazo virtuozas\, kurio muzika – numyluoja\, svaigina\, užburia… – Vytautas Labutis. \n 
URL:https://kdt.lt/event/jausmu-dziazas-2022-03-08/
LOCATION:Kamerinė salė
CATEGORIES:Svečių renginiai
ATTACH;FMTTYPE=image/jpeg:https://kdt.lt/wp-content/uploads/2021/11/id_93432.jpg
END:VEVENT
BEGIN:VEVENT
DTSTART;TZID=Europe/Vilnius:20220323T183000
DTEND;TZID=Europe/Vilnius:20220323T192000
DTSTAMP:20260422T120854
CREATED:20220211T140006Z
LAST-MODIFIED:20220214T141500Z
UID:5510-1648060200-1648063200@kdt.lt
SUMMARY:„Prarasti / Namai toli nuo namų“
DESCRIPTION:Pirmieji žmonės buvo klajokliai. O kokia paskutiniųjų lemtis? „Prarasti / Namai toli nuo namų“ pasiūlo prieglobstį aštuonioms būtybėms\, kurių takas veda į praradimą ir užmarštį. Čia yra namai\, kur trumpam susitikusios jos dalijasi istorijomis apie savo kilmę bei kelius\, čia įvyksta ta akimirka\, kai kiekviena pasaulio dalis atsiskleidžia kaip dygsnis žmonijos audinyje. Besirūpindamos bendruomene\, kurios nelegaliomis viešniomis tapo\, šios būtybės patiria didžiulį džiaugsmą. Prisiminimo veiksmas kaip susitikimo forma\, užmarštis – laisvės išraiška. Jos – pabėgėlės iš svetur\, greitai keliausiančios toliau\, palikdamos pėdsakus\, kuriais šokti ateis jau kiti. Bet šiandien jos čia. \n\nGyvi sutvėrimai gali prisiminti\, jog kartais\, norint gyventi kartu\, versti ir perrašyti pasaulį savyje\, pirmiausia reikia pamiršti. \n\nKūrinys trykšta gaivališka „Auros“ trupės šokėjų energija\, jaunatviška ir organiška jų jėga virsta vieninga unikalia kalba. „Mano tikslas – ne didingas pasirodymas\, o nuodugni trapumo ir neįtikėtinai mažų dalykų studija\, kurioje bendram darbui susitinka individualios esybės“\, – tvirtina choreografė K. Ponties. \nScenoje – aštuoni šokėjai\, kiekvienas iš kitos šalies: Meksikos\, Australijos\, Prancūzijos\, Italijos\, Lietuvos\, Japonijos\, Albanijos\, Korėjos. Jie – skirtingų kultūrų interpretatoriai\, ir jautrūs skirtingai. Siekdama kuo turtingesnės kolektyvinio darbo patirties\, K. Ponties meninėse kolaboracijose su partneriais iš visos Europos\, Afrikos\, Rusijos ir Azijos visada skatina šokėjus tirti savo gimtąją kultūrą ir kalbą\, formuoti unikalų prasmės bei istorijos suvokimą\, o tai galiausiai padeda jiems atrasti savitą braižą. „Jungtys gimsta dirbant su asmenybėmis\, kiekviena kurių autentiškai bando įprasminti jau egzistuojančias kalbas: garsus\, žodžius\, gestus\, spalvas\, pasaulio pliūpsnius. Tai – medžiaga transformacijoms“\, – sako kūrėja. \n  \nNuotraukų autorė Svetlana Batura
URL:https://kdt.lt/event/prarasti-namai-toli-nuo-namu/
LOCATION:Mažoji salė\, Teatro g. 2\, Klaipėda
CATEGORIES:Svečių renginiai
ATTACH;FMTTYPE=image/jpeg:https://kdt.lt/wp-content/uploads/2022/01/LOSS-LARGE-FB-e1644581753896.jpg
ORGANIZER;CN="Kauno %C5%A1okio teatras %E2%80%9EAura%E2%80%9C":MAILTO:info@aura.lt
END:VEVENT
BEGIN:VEVENT
DTSTART;TZID=Europe/Vilnius:20220326T173000
DTEND;TZID=Europe/Vilnius:20220326T185000
DTSTAMP:20260422T120854
CREATED:20211011T132714Z
LAST-MODIFIED:20220914T105419Z
UID:5619-1648315800-1648320600@kdt.lt
SUMMARY:BŪTI
DESCRIPTION:Monodramos „Būti“ epicentre – jauna mergina Elena\, kuri pirmą kartą gyvenime pati turi priimti svarbų\, tačiau netikėtą ir labai sudėtingą sprendimą. Žinia apie neplanuotai užsimezgusią gyvybę priskiriama prie didžiausių gyvenimo sukrėtimų\, nes sprendimo akimirką žmogus suvokia\, kad gyvenimas bet kuriuo atveju pasikeis negrįžtamai. Pasimetus dėl patiriamo streso Elena užsirašo abortui\, tačiau prieš tai yra pakviečiama apsilankyti konsultacijoje\, kur specialistės patvirtintų jos apsisprendimą. Elena nė nenutuokia\, kad šis vizitas bus lemtingas. \nDovilės Katiliūtės sukurtos spektaklio dramaturgijos pagrindas – tikros moterų\, susidūrusių su neplanuotu nėštumu ar abortu\, istorijos. Dokumentinė medžiaga suteikia pjesei intymumo\, autentiškumo\, atskleidžia itin jautrias temas\, kuriomis visuomenėje kalbėti dažnai nepatogu. Ką pasirinkti? Nėštumo nutraukimą ar gimdymą neturint jokios paramos? Spektaklyje atskleidžiami būties ieškojimai – kaip „būti“? Kaip gyventi su savo pasirinkimu? Kaip kovoti su šių pasirinkimų psichologinėmis pasekmėmis\, nugalint socialinę atskirtį ar vienišumą. Ką mums reiškia būti? Ar mes iš tiesų esame? Ar mes turime teisę spręsti\, ar gali būti kiti? O gal sprendimo metu yra tik kiti? \nSpektaklio baigiamoji dalis – su neplanuotu nėštumu ar abortu susidūrusių žmonių fotografijų paroda „Esu“\, kurią lydės tikros jų istorijos. Dokumentinė paroda skirta atskleisti realius šio reiškinio mąstus šiandieninėje Lietuvoje. Po spektaklio žiūrovai turės galimybę pasinerti į gyvus\, be galo jautrius ir tikrus liudijimus\, kurie teatro fikciją perkels į realybę primenant\, jog teatras tėra melas apie tiesą\, o gyvenime režisieriai esame mes patys. \n\nBūti negalima nebūti. – kur dėsime kablelį? \n\nRežisierė L. Krivickaitė – „Spektaklyje gausu dviprasmiškumo\, šmaikščių situacijų bei nesusipratimų\, dažnai žmonės vengia sunkiomis temomis kalbėti atvirai. Spektaklyje vyraujanti pakili nuotaika\, komiškos situacijos bei humoras tarsi natūrali pagrindinės herojės apsaugos priemonė. Užuot moralizavę ar gazdinę problema\, mes ją pateikiame kaip natūralų\, žmogaus suformuotą reiškinį\, kuris prasidėjo atsiradus galimybei kontroliuoti žmonijos gimstamumą. Neplanuotas nėštumas ar aborto reiškinys iš pažiūros labai tamsios temos\, tačiau pasirinkus tinkamą pažinties būdą ši istorija pasakojama edukuojant žiūrovą\, skatinant jį permąstyti savo atsiradimą bei tikslą šiame pasaulyje. Žmogiškasis skausmas dažnai priverčia atsigręžti į esmines vertybes\, todėl spektaklyje daug meilės ir šviesos\, o pasirinkti\, būti ar ne- kiekvieno asmeninis reikalas.“
URL:https://kdt.lt/event/buti-2022-03-26/
LOCATION:Kamerinė salė
CATEGORIES:Svečių renginiai
ATTACH;FMTTYPE=image/jpeg:https://kdt.lt/wp-content/uploads/2021/10/id_90462-e1642420819501.jpg
END:VEVENT
END:VCALENDAR