BEGIN:VCALENDAR
VERSION:2.0
PRODID:-//Klaipėdos dramos teatras - ECPv6.10.3//NONSGML v1.0//EN
CALSCALE:GREGORIAN
METHOD:PUBLISH
X-WR-CALNAME:Klaipėdos dramos teatras
X-ORIGINAL-URL:https://kdt.lt
X-WR-CALDESC:Klaipėdos dramos teatras renginiai
REFRESH-INTERVAL;VALUE=DURATION:PT1H
X-Robots-Tag:noindex
X-PUBLISHED-TTL:PT1H
BEGIN:VTIMEZONE
TZID:Europe/Vilnius
BEGIN:DAYLIGHT
TZOFFSETFROM:+0200
TZOFFSETTO:+0300
TZNAME:EEST
DTSTART:20220327T010000
END:DAYLIGHT
BEGIN:STANDARD
TZOFFSETFROM:+0300
TZOFFSETTO:+0200
TZNAME:EET
DTSTART:20221030T010000
END:STANDARD
END:VTIMEZONE
BEGIN:VEVENT
DTSTART;TZID=Europe/Vilnius:20220820T190000
DTEND;TZID=Europe/Vilnius:20220820T200000
DTSTAMP:20260420T071526
CREATED:20220803T081924Z
LAST-MODIFIED:20220915T104223Z
UID:6775-1661022000-1661025600@kdt.lt
SUMMARY:MIKADO
DESCRIPTION:Visuomenė kaip lazdų ryšulys. Mes visi glaudžiai susiję ir nuolat koreguojame socialinio žaidimo taisykles. Pandemija\, socialiniai tinklai keičia mūsų elgesį\, bendravimo būdus ir silpnina mūsų gebėjimą kritiškai mąstyti. Mūsų santykiai nebepasotina\, tampa neapčiuopiami ir fragmentiški. Kažkas viduje ima priešintis ir ieškoti autentiško santykio su savimi ir supančia aplinka. \n\n„Mikado“ tyrinėja šiuolaikinio žmogaus būklę\, kai materiją keičia virtualumas. \n\nSpektaklis jungia tokius mūsų būties elementus\, kaip prigimtinis žmogaus kūnas\, medinės lazdos ir nuolat mus lydintys mobilūs įrenginiai. Lazda tarsi pratęsia žmogaus kūną. Tai fizinio santykio su pasauliu simbolis. Lazda yra įrankis\, muzikinis instrumentas\, ginklas kovos menuose. Ji jungia\, tačiau ir nustumia\, nustato „saugų atstumą“. Spektaklyje derinamos skirtingos judesio kalbos: natūralus kūno fiziškumas\, archajinės Aikido ir kitų kovos menų tradicijos ir šiuolaikinis šokis. Pojūčius sustiprina scenoje kuriami ritmai\, muzika ir nuorodos į Italijos kultūrą. Taip scenoje akumuliuojasi energijos pliūpsnis\, sudrebinantis žiūrintįjį iki šerdies. \n„Mikado“ choreografiją kuria Vittoria de Ferrari Sapetto\, Andrea Valfre\, atlieka Šeiko šokio teatras\, Kauno šokio trupė „Nuepiko“\, šokėjai iš kitų Europos šalių bei Kauno miesto ir rajono bendruomenės. Šviesų dizainą kuria garsus šviesų dailininkas Giacomo Gorini\, o muziką – pripažintas italų kompozitorius Giorgio Ferrero.
URL:https://kdt.lt/event/mikado/
LOCATION:Didžioji salė\, Teatro g. 2\, Klaipėda\, Lietuva
CATEGORIES:Svečių renginiai
ATTACH;FMTTYPE=image/jpeg:https://kdt.lt/wp-content/uploads/2022/08/Mikado.-Foto-Kemel-photography_8112-scaled.jpg
ORGANIZER;CN="Plartforma":MAILTO:festivalis.plartforma@gmail.com
END:VEVENT
END:VCALENDAR