BEGIN:VCALENDAR
VERSION:2.0
PRODID:-//Klaipėdos dramos teatras - ECPv6.10.3//NONSGML v1.0//EN
CALSCALE:GREGORIAN
METHOD:PUBLISH
X-ORIGINAL-URL:https://kdt.lt
X-WR-CALDESC:Klaipėdos dramos teatras renginiai
REFRESH-INTERVAL;VALUE=DURATION:PT1H
X-Robots-Tag:noindex
X-PUBLISHED-TTL:PT1H
BEGIN:VTIMEZONE
TZID:Europe/Vilnius
BEGIN:DAYLIGHT
TZOFFSETFROM:+0200
TZOFFSETTO:+0300
TZNAME:EEST
DTSTART:20220327T010000
END:DAYLIGHT
BEGIN:STANDARD
TZOFFSETFROM:+0300
TZOFFSETTO:+0200
TZNAME:EET
DTSTART:20221030T010000
END:STANDARD
END:VTIMEZONE
BEGIN:VEVENT
DTSTART;TZID=Europe/Vilnius:20220910T173000
DTEND;TZID=Europe/Vilnius:20220910T183000
DTSTAMP:20260420T053243
CREATED:20220117T113449Z
LAST-MODIFIED:20220902T132541Z
UID:8236-1662831000-1662834600@kdt.lt
SUMMARY:MUSĖ
DESCRIPTION:„Musė”\, tai I dalies absurdo drama\, pagal to paties pavadinimo D. Čepauskaitės pjesę. Kviečiame žiūrovus pasinerti į subtilias kasdienių santykių vingrybes – apipintas absurdo detalėmis. \n\nKomiškas\, drąstiškai realistiškas ir priverčiantis susimąstyti spektaklis\, kuris\, turime įspėti\, gali „atverti akis” \n\n„Musė” – teatrų festivalyje-konkurse „Atspindžiai” apdovanota kaip „Metų debiutas”\, o spektaklio kompozitorė Gintarė Valionytė nominuota už „Geriausią spektaklio muziką”. \n 
URL:https://kdt.lt/event/muse-2022-09-10/
LOCATION:Kamerinė salė
CATEGORIES:Svečių renginiai
ATTACH;FMTTYPE=image/jpeg:https://kdt.lt/wp-content/uploads/2022/01/Z6R_5789-scaled.jpg
ORGANIZER;CN="Teatras ARTYN":MAILTO:artyn.teatras@gmail.com
END:VEVENT
BEGIN:VEVENT
DTSTART;TZID=Europe/Vilnius:20220913T100000
DTEND;TZID=Europe/Vilnius:20220913T104500
DTSTAMP:20260420T053243
CREATED:20220117T084604Z
LAST-MODIFIED:20220905T142302Z
UID:8237-1663063200-1663065900@kdt.lt
SUMMARY:ČIA TU? ČIA AŠ!
DESCRIPTION:Muzikinis spektaklis kūdikiams „Čia Tu? Čia Aš!“ tai spektaklis patiems mažiausiems! \n  \n\nTai smagus žaidimas\, kuriame mažieji kartu mokysis atrasti\, stebėti\, prisiliesti ir kartu įsitraukti į nepaprastą pojūčių pasaulį. \n\n  \nIš įvairiausių faktūrų\, spalvų ir geometrinių figūrų spektaklyje atsiras įvairūs atpažįstami daiktai ir gyvūnai. Specialiai šiam spektakliui sukurta muzika – ypač dinamiška\, spalvinga ir atliekama įvairiausiais instrumentais kartu su balsu. \n  \n„Čia Tu? Čia Aš!” skirtas kūdikiams nuo 6 mėnesių iki 2 metukų ir jų tėveliams.
URL:https://kdt.lt/event/cia-tu-cia-as-2022-09-13/
LOCATION:Kamerinė salė
CATEGORIES:Svečių renginiai
ATTACH;FMTTYPE=image/png:https://kdt.lt/wp-content/uploads/2022/01/id_69873.png
ORGANIZER;CN="Klaip%C4%97dos Jaunimo Teatras":MAILTO:info@kjt.lt
END:VEVENT
BEGIN:VEVENT
DTSTART;TZID=Europe/Vilnius:20220916T180000
DTEND;TZID=Europe/Vilnius:20220916T192000
DTSTAMP:20260420T053243
CREATED:20211011T132714Z
LAST-MODIFIED:20211011T132714Z
UID:8404-1663351200-1663356000@kdt.lt
SUMMARY:BŪTI
DESCRIPTION:Monodramos „Būti“ epicentre – jauna mergina Elena\, kuri pirmą kartą gyvenime pati turi priimti svarbų\, tačiau netikėtą ir labai sudėtingą sprendimą. Žinia apie neplanuotai užsimezgusią gyvybę priskiriama prie didžiausių gyvenimo sukrėtimų\, nes sprendimo akimirką žmogus suvokia\, kad gyvenimas bet kuriuo atveju pasikeis negrįžtamai. Pasimetus dėl patiriamo streso Elena užsirašo abortui\, tačiau prieš tai yra pakviečiama apsilankyti konsultacijoje\, kur specialistės patvirtintų jos apsisprendimą. Elena nė nenutuokia\, kad šis vizitas bus lemtingas. \nDovilės Katiliūtės sukurtos spektaklio dramaturgijos pagrindas – tikros moterų\, susidūrusių su neplanuotu nėštumu ar abortu\, istorijos. Dokumentinė medžiaga suteikia pjesei intymumo\, autentiškumo\, atskleidžia itin jautrias temas\, kuriomis visuomenėje kalbėti dažnai nepatogu. Ką pasirinkti? Nėštumo nutraukimą ar gimdymą neturint jokios paramos? Spektaklyje atskleidžiami būties ieškojimai – kaip „būti“? Kaip gyventi su savo pasirinkimu? Kaip kovoti su šių pasirinkimų psichologinėmis pasekmėmis\, nugalint socialinę atskirtį ar vienišumą. Ką mums reiškia būti? Ar mes iš tiesų esame? Ar mes turime teisę spręsti\, ar gali būti kiti? O gal sprendimo metu yra tik kiti? \nSpektaklio baigiamoji dalis – su neplanuotu nėštumu ar abortu susidūrusių žmonių fotografijų paroda „Esu“\, kurią lydės tikros jų istorijos. Dokumentinė paroda skirta atskleisti realius šio reiškinio mąstus šiandieninėje Lietuvoje. Po spektaklio žiūrovai turės galimybę pasinerti į gyvus\, be galo jautrius ir tikrus liudijimus\, kurie teatro fikciją perkels į realybę primenant\, jog teatras tėra melas apie tiesą\, o gyvenime režisieriai esame mes patys. \n\nBūti negalima nebūti. – kur dėsime kablelį? \n\nRežisierė L. Krivickaitė – „Spektaklyje gausu dviprasmiškumo\, šmaikščių situacijų bei nesusipratimų\, dažnai žmonės vengia sunkiomis temomis kalbėti atvirai. Spektaklyje vyraujanti pakili nuotaika\, komiškos situacijos bei humoras tarsi natūrali pagrindinės herojės apsaugos priemonė. Užuot moralizavę ar gazdinę problema\, mes ją pateikiame kaip natūralų\, žmogaus suformuotą reiškinį\, kuris prasidėjo atsiradus galimybei kontroliuoti žmonijos gimstamumą. Neplanuotas nėštumas ar aborto reiškinys iš pažiūros labai tamsios temos\, tačiau pasirinkus tinkamą pažinties būdą ši istorija pasakojama edukuojant žiūrovą\, skatinant jį permąstyti savo atsiradimą bei tikslą šiame pasaulyje. Žmogiškasis skausmas dažnai priverčia atsigręžti į esmines vertybes\, todėl spektaklyje daug meilės ir šviesos\, o pasirinkti\, būti ar ne- kiekvieno asmeninis reikalas.“
URL:https://kdt.lt/event/buti-2022-09-16/
LOCATION:Kamerinė salė
CATEGORIES:Svečių renginiai
ATTACH;FMTTYPE=image/jpeg:https://kdt.lt/wp-content/uploads/2021/10/id_90462-e1642420819501.jpg
END:VEVENT
BEGIN:VEVENT
DTSTART;TZID=Europe/Vilnius:20220917T193000
DTEND;TZID=Europe/Vilnius:20220917T204000
DTSTAMP:20260420T053243
CREATED:20220829T134531Z
LAST-MODIFIED:20220915T104222Z
UID:8242-1663443000-1663447200@kdt.lt
SUMMARY:KONTRABOSAS
DESCRIPTION:Vieno veiksmo pjesė „Kontrabosas“ – tai paralelė į mūsų pačių kasdienybę. Dabartinė garbėtroškų ir narcizų visuomenė kasdien mokosi tą pačią pamoką kaip ir P. Süskind dramos herojus – pervertinus savo galimybes\, lieka protestuoti prieš tavo talento nepastebėjusi pasaulį ir jo nekęsti. Arba galų gale suvokti\, kad esi tik vienas didelio orkestro instrumentas\, greičiausiai net ne kontrabosas\, o barškutis. \nSpektaklis „Kontrabosas“ – tai tragikomiškas savimi\, muzika ir pasauliu nusivylusio kontrabosisto monologas. \nJame žiūrovui atskleidžiama mažo žmogaus drama: kaip susitaikyti su tuo\, kad niekada neatliksi solo partijos\, kad niekada nestovėsi pirmoje eilėje\, kad savo paties gyvenime esi tik antraeilis veikėjas.
URL:https://kdt.lt/event/kontrabosas/
LOCATION:Kamerinė salė
CATEGORIES:Svečių renginiai
ATTACH;FMTTYPE=image/jpeg:https://kdt.lt/wp-content/uploads/2022/08/1.jpg
ORGANIZER;CN="Klaip%C4%97dos Jaunimo Teatras":MAILTO:info@kjt.lt
END:VEVENT
END:VCALENDAR